BEGIN:VCALENDAR
VERSION:2.0
PRODID:-//Tech.Vegas - ECPv6.15.20//NONSGML v1.0//EN
CALSCALE:GREGORIAN
METHOD:PUBLISH
X-WR-CALNAME:Tech.Vegas
X-ORIGINAL-URL:https://tech.vegas
X-WR-CALDESC:Events for Tech.Vegas
REFRESH-INTERVAL;VALUE=DURATION:PT1H
X-Robots-Tag:noindex
X-PUBLISHED-TTL:PT1H
BEGIN:VTIMEZONE
TZID:America/Los_Angeles
BEGIN:DAYLIGHT
TZOFFSETFROM:-0800
TZOFFSETTO:-0700
TZNAME:PDT
DTSTART:20240310T100000
END:DAYLIGHT
BEGIN:STANDARD
TZOFFSETFROM:-0700
TZOFFSETTO:-0800
TZNAME:PST
DTSTART:20241103T090000
END:STANDARD
BEGIN:DAYLIGHT
TZOFFSETFROM:-0800
TZOFFSETTO:-0700
TZNAME:PDT
DTSTART:20250309T100000
END:DAYLIGHT
BEGIN:STANDARD
TZOFFSETFROM:-0700
TZOFFSETTO:-0800
TZNAME:PST
DTSTART:20251102T090000
END:STANDARD
BEGIN:DAYLIGHT
TZOFFSETFROM:-0800
TZOFFSETTO:-0700
TZNAME:PDT
DTSTART:20260308T100000
END:DAYLIGHT
BEGIN:STANDARD
TZOFFSETFROM:-0700
TZOFFSETTO:-0800
TZNAME:PST
DTSTART:20261101T090000
END:STANDARD
END:VTIMEZONE
BEGIN:VEVENT
DTSTART;TZID=America/Los_Angeles:20251115T000000
DTEND;TZID=America/Los_Angeles:20251119T000000
DTSTAMP:20260420T164521
CREATED:20251103T201559Z
LAST-MODIFIED:20251103T201559Z
UID:10006361-1763164800-1763510400@tech.vegas
SUMMARY:National Multifamily Housing Council – OPTECH Conference & Exposition – 2025
DESCRIPTION:@ 			\n			\n							 \n\nOPTECH is the premier event for innovation in rental housing operations\, technology\, marketing\, and data.\nFor over 25 years\, it’s been the place where real estate leaders come to discover what’s next—connecting cutting-edge tech with the people and strategies driving real industry change. \nFrom AI and automation to cybersecurity\, customer experience\, and policy trends\, OPTECH is where bold ideas become business strategy. \nIt’s not just about exploring what’s possible—it’s about making it work for your portfolio\, your teams\, and your residents. \n\n\n\n\n\n						\n	\n	\n\n						\n							Add to calendar						\n						\n	\n\n					\n\n\n\n									\n										Google Calendar									\n								\n\n									\n										iCalendar									\n								\n\n									\n										Outlook 365									\n								\n\n									\n										Outlook Live									\n								\n\n \n \n \n \n\n\n\n					Details\n	\n\n Date: \n\n				  \n			\n Time:
URL:https://tech.vegas/event/national-multifamily-housing-council-optech-conference-exposition-2025/
LOCATION:MGM Grand Hotel & Casino\, 3799 S Las Vegas Blvd\, Las Vegas\, NV 89109\, United States\, Las Vegas
CATEGORIES:Featured
ATTACH;FMTTYPE=image/png:https://tech.vegas/wp-content/uploads/2025/11/image-4-scaled-zmwHfU.png
END:VEVENT
BEGIN:VEVENT
DTSTART;TZID=America/Los_Angeles:20251117T000000
DTEND;TZID=America/Los_Angeles:20251123T235959
DTSTAMP:20260420T164521
CREATED:20251113T175755Z
LAST-MODIFIED:20251113T175755Z
UID:10006375-1763337600-1763942399@tech.vegas
SUMMARY:Global Entrepreneur Week 2025
DESCRIPTION:@ 			\n			\n							 \n\nGlobal Entrepreneurship Week (GEW) is the world’s largest annual celebration of innovators and job creators. Held for one week in November\, it’s a massive international campaign that connects millions of people in over 200 countries with the resources\, knowledge\, and collaborators they need to start and scale new businesses. \nThe campaign is driven by the Global Entrepreneurship Network (GEN) and thousands of partner organizations that host events ranging from workshops and pitch competitions to networking mixers. \nThe theme for the 2025 campaign is: \n“Together We Build”\nThis theme emphasizes collaboration and the collective power of community\, encouraging entrepreneurs\, mentors\, investors\, and policymakers to join forces to create a resilient and inclusive economic future. \n\nNevada’s Implementation of the GEW Program\nThe organization responsible for the state’s efforts is Global Entrepreneurship Week Nevada (GEW Nevada)\, with a focus on connecting the local community and demonstrating the state’s collaborative spirit. Nevada’s implementation is characterized by its statewide reach and grassroots community focus.1 \n1. Statewide Nevada – GEWNevada.com \nGEW Nevada organizes events across the state.  GEW Nevada leverages the collective energy of the state’s entrepreneurial ecosystem to make a significant\, coordinated impact during the dedicated week in November.  Visit the site to see events across the state\, to meet the team organizing GEW in Nevada and to see great partners and venues for your next events! \n\n		\n\n\nGlobal Entrepreneur Week Nevada\n \nView Organizer Website \n \n\n\n\n\n\n\n						\n	\n	\n\n						\n							Add to calendar						\n						\n	\n\n					\n\n\n\n									\n										Google Calendar									\n								\n\n									\n										iCalendar									\n								\n\n									\n										Outlook 365									\n								\n\n									\n										Outlook Live
URL:https://tech.vegas/event/global-entrepreneur-week-2025/
LOCATION:Happening at various locations
CATEGORIES:Chamber,Community,Featured,Government & Education,Professional Association,Technology
ATTACH;FMTTYPE=image/jpeg:https://tech.vegas/wp-content/uploads/2025/11/Global-Entrepreneur-Week-2025-scaled-1NMLFX.jpg
END:VEVENT
END:VCALENDAR