BEGIN:VCALENDAR
VERSION:2.0
PRODID:-//Tech.Vegas - ECPv6.15.20//NONSGML v1.0//EN
CALSCALE:GREGORIAN
METHOD:PUBLISH
X-ORIGINAL-URL:https://tech.vegas
X-WR-CALDESC:Events for Tech.Vegas
REFRESH-INTERVAL;VALUE=DURATION:PT1H
X-Robots-Tag:noindex
X-PUBLISHED-TTL:PT1H
BEGIN:VTIMEZONE
TZID:America/Los_Angeles
BEGIN:DAYLIGHT
TZOFFSETFROM:-0800
TZOFFSETTO:-0700
TZNAME:PDT
DTSTART:20250309T100000
END:DAYLIGHT
BEGIN:STANDARD
TZOFFSETFROM:-0700
TZOFFSETTO:-0800
TZNAME:PST
DTSTART:20251102T090000
END:STANDARD
BEGIN:DAYLIGHT
TZOFFSETFROM:-0800
TZOFFSETTO:-0700
TZNAME:PDT
DTSTART:20260308T100000
END:DAYLIGHT
BEGIN:STANDARD
TZOFFSETFROM:-0700
TZOFFSETTO:-0800
TZNAME:PST
DTSTART:20261101T090000
END:STANDARD
BEGIN:DAYLIGHT
TZOFFSETFROM:-0800
TZOFFSETTO:-0700
TZNAME:PDT
DTSTART:20270314T100000
END:DAYLIGHT
BEGIN:STANDARD
TZOFFSETFROM:-0700
TZOFFSETTO:-0800
TZNAME:PST
DTSTART:20271107T090000
END:STANDARD
END:VTIMEZONE
BEGIN:VEVENT
DTSTART;TZID=America/Los_Angeles:20260218T150000
DTEND;TZID=America/Los_Angeles:20260218T163000
DTSTAMP:20260420T113208
CREATED:20260120T193559Z
LAST-MODIFIED:20260120T193559Z
UID:10006763-1771426800-1771432200@tech.vegas
SUMMARY:2026 Guinn Center Policy Forums
DESCRIPTION:@ 			\n			\n							 \n\n\nAbout This Event \nThe 2026 Guinn Center Policy Priorities Forums in Reno and Las Vegas bring together community leaders\, policymakers\, and partners for interactive discussions on Nevada’s most pressing policy issues.\nThese events will highlight the Guinn Center’s latest nonpartisan research across key topic areas\, while inviting attendees to share their perspectives on the challenges and opportunities shaping the state’s future. Through a guided\, real-time survey\, participants will help identify the policy priorities that matter most in 2026. Insights gathered during the forum will directly inform the Guinn Center’s future research\, ensuring our work remains responsive\, data-driven\, and grounded in the needs of Nevada communities. \nReno Forum:\n\nFebruary 4\, 2026\n3-4:30 p.m.\nInnevation Center\, 450 Sinclair Street in Reno\n\nLas Vegas Forum:\n\nFebruary 18\, 2024\n3-4:30 p.m.\nUNR Extension\, 8050 Paradise Road in Las Vegas\n\nTo RSVP\, click here. \n\n		\n\n\nGuinn Center\n \nView Organizer Website \n \n\n\n\n\n\n\n						\n	\n	\n\n						\n							Add to calendar						\n						\n	\n\n					\n\n\n\n									\n										Google Calendar									\n								\n\n									\n										iCalendar									\n								\n\n									\n										Outlook 365									\n								\n\n									\n										Outlook Live
URL:https://tech.vegas/event/2026-guinn-center-policy-forums/
LOCATION:University of Nevada\, Reno Extension\, 8050 Paradise Road\, #Suite 100 #105\, Las Vegas\, NV\, 89123\, United States
CATEGORIES:Community,Featured,Las Vegas Business,Legal, Financial & Government
ATTACH;FMTTYPE=image/png:https://tech.vegas/wp-content/uploads/2026/01/image-10-oK3M0x.png
END:VEVENT
BEGIN:VEVENT
DTSTART;TZID=America/Los_Angeles:20260218T183000
DTEND;TZID=America/Los_Angeles:20260218T193000
DTSTAMP:20260420T113208
CREATED:20260114T110235Z
LAST-MODIFIED:20260114T110236Z
UID:10006579-1771439400-1771443000@tech.vegas
SUMMARY:The Nevada Independent - IndyTalks: A conversation with Senator Catherine Cortez Masto
DESCRIPTION:Join us for the first IndyTalks of 2026 in Northern Nevada on Wednesday\, February 18\, featuring a conversation with Senator Catherine Cortez Masto. \n\n\n\n“CEO Jon Ralston sits down with senior Sen. Cortez Masto to talk about her efforts on behalf of the state\, her recent break with her colleague Jacky Rosen during the government shutdown and what she sees ahead in 2026.” \n\n\n\nDon’t miss this opportunity to gain insight into the challenges and opportunities shaping our state—and what they mean for our communities.
URL:https://tech.vegas/event/the-nevada-independent-indytalks-a-conversation-with-senator-catherine-cortez-masto/
CATEGORIES:Featured,Networking
ATTACH;FMTTYPE=image/png:https://tech.vegas/wp-content/uploads/2026/01/image-13.png
END:VEVENT
BEGIN:VEVENT
DTSTART;TZID=America/Los_Angeles:20260219T170000
DTEND;TZID=America/Los_Angeles:20260219T190000
DTSTAMP:20260420T113208
CREATED:20260212T193043Z
LAST-MODIFIED:20260212T193412Z
UID:10006819-1771520400-1771527600@tech.vegas
SUMMARY:TARIFFS\, TAXES AND THE LAS VEGAS ECONOMY
DESCRIPTION:Join us as the Economic Club of Las Vegas welcomes Dr. Kristopher Sanchez\, Director for the State of Nevada Department of Business & Industry\, Cameron Belt\, Senior Economist & Research Director at RCG Economics\, and David Damore\, Ph.D.\, Executive Director of The Lincy Institute and Brookings Mountain West\, as they discuss how tariffs and new legislation are impacting the state of Nevada during a panel discussion. \n\n\n\nPresenters: Dr. Kristopher Sanchez\, Director for the State of Nevada Department of Business & Industry\, Cameron Belt\, Senior Economist & Research Director at RCG Economics\, and David Damore\, Ph.D.\, Executive Director of The Lincy Institute and Brookings Mountain West
URL:https://tech.vegas/event/tariffs-taxes-and-the-las-vegas-economy/
LOCATION:Park MGM Las Vegas\, 3770 South Las Vegas Boulevard Las Vegas\, NV 89109 United States
CATEGORIES:Economic Development,Educational,Featured
ATTACH;FMTTYPE=image/png:https://tech.vegas/wp-content/uploads/2026/02/image-3.png
END:VEVENT
BEGIN:VEVENT
DTSTART;TZID=America/Los_Angeles:20260219T180000
DTEND;TZID=America/Los_Angeles:20260219T200000
DTSTAMP:20260420T113208
CREATED:20260212T194640Z
LAST-MODIFIED:20260212T194640Z
UID:10006820-1771524000-1771531200@tech.vegas
SUMMARY:2026 February – Level One: Connect! | Kick Off Mixer
DESCRIPTION:@ 			\n			\n							 \n\n\nTickets – Limit 1 Per Person\, limited to LVIMA Members ONLY. Non-members – please join before requesting a ticket. \nLevel One: Connect! \nKick Off Mixer – RSVP Now!Ready… set… connect. \nLVIMA’s first mixer of the year is always a fan favorite\, and for good reason. After the holiday hiatus\, it’s time to lace up and jump back in! \nDid someone say Open Bar and great apps? Getting together in-person? YES\, please! \nThis year\, we’re kicking things off Olympic-style with Level One Connections. Think big-game energy\, winter-sports vibes\, and that electric feeling of connecting with new and old friends. \nHere’s what you can expect:🏅 Open bar & crowd-pleasing bites🏅 Easy icebreakers (no triple axels required)🏅 High-energy conversations with Vegas’ smartest marketers🏅 A few playful surprises to keep things competitive (in a fun way) \nThe venue? Swingers at Mandalay Bay.An easy entrance right past self parking and rideshare drop-off\, Swingers is THE place for a night out. Part carnival\, part crazy mini golf\, and a little bit of nostalgic charm. We’ll have a private course (the Ferris Wheel one!) on the second floor.  \nWarm up those networking muscles and RSVP NOW! This one always fills fast. \nAs Swingers says\, join us for some “unique and outrageous fun!” LVIMA is back. Level One starts now. \n\n\n\n\n\n\n\n\n\n\n		\n\n\nLVIMA\n \nView Organizer Website \n \n\n\n\n\n\n \n\n\n\n\n\n						\n	\n	\n\n						\n							Add to calendar						\n						\n	\n\n					\n\n\n\n									\n										Google Calendar									\n								\n\n									\n										iCalendar									\n								\n\n									\n										Outlook 365									\n								\n\n									\n										Outlook Live									\n								\n\n \n \n \n \n\nJoin the Waitlist (For Now ) \nWe’re officially sold out! This ticket adds you to our waitlist but does not guarantee a spot… YET. \nThe good news? We’re working behind the scenes with the help of our sponsors to unlock more tickets. If spots open up\, we’ll reach out directly to those on the waitlist. \nThanks for your excitement and patience! \nJOIN THE WAITLIST HERE
URL:https://tech.vegas/event/2026-february-level-one-connect-kick-off-mixer/
LOCATION:Swingers at Mandalay Bay\, 3950 S Las Vegas Blvd.\, Las Vegas\, Nevada\, 89119\, United States
CATEGORIES:Featured
ATTACH;FMTTYPE=image/jpeg:https://tech.vegas/wp-content/uploads/2026/02/2025-All-2j8c3Y.jpg
END:VEVENT
BEGIN:VEVENT
DTSTART;TZID=America/Los_Angeles:20260221T080000
DTEND;TZID=America/Los_Angeles:20260221T170000
DTSTAMP:20260420T113208
CREATED:20250515T194733Z
LAST-MODIFIED:20251031T202742Z
UID:10005583-1771660800-1771693200@tech.vegas
SUMMARY:Tech Alley
DESCRIPTION:Tech Alley is a dynamic\, community-driven initiative based in Las Vegas\, dedicated to nurturing the local technology and startup ecosystem. It serves as a vibrant hub where entrepreneurs\, technologists\, and innovators converge to share knowledge\, collaborate\, and bring ideas to fruition. Through a variety of events\, educational workshops\, and mentorship programs\, Tech Alley fosters an inclusive and diverse environment that promotes growth and success in the tech and startup community. Regular meetups Downtown Las Vegas are on the third Saturday of each month. \n\n\n\nBeyond events\, Tech Alley offers avenues for continuous engagement and learning. It features groups focused on various aspects of entrepreneurship and technology\, including design and fundraising\, led by community leaders. Additionally\, Tech Alley provides access to resident experts in fields like cybersecurity\, fundraising\, business law\, SEO\, and blockchain\, offering valuable insights to help navigate the complexities of business and technology. By uniting people and fostering a creative class\, Tech Alley plays a pivotal role in strengthening communities and promoting an innovative technology and startup culture in Las Vegas.
URL:https://tech.vegas/event/tech-alley/2026-02-21/
LOCATION:Taverna Costera\, 1031 S Main St\, Las Vegas\, NV\, 89101\, us
CATEGORIES:Economic Development,Educational,Featured,Networking,Pitch/ Competition,Startups,Technology
ATTACH;FMTTYPE=image/jpeg:https://tech.vegas/wp-content/uploads/2025/05/tech-alley-banner.jpg
GEO:36.159767;-115.15288
X-APPLE-STRUCTURED-LOCATION;VALUE=URI;X-ADDRESS=Taverna Costera 1031 S Main St Las Vegas NV 89101 us;X-APPLE-RADIUS=500;X-TITLE=1031 S Main St:geo:-115.15288,36.159767
END:VEVENT
BEGIN:VEVENT
DTSTART;TZID=America/Los_Angeles:20260223T060000
DTEND;TZID=America/Los_Angeles:20260226T170000
DTSTAMP:20260420T113208
CREATED:20251120T081752Z
LAST-MODIFIED:20251120T081754Z
UID:10006395-1771826400-1772125200@tech.vegas
SUMMARY:NWEA 2026 Annual Conference
DESCRIPTION:The NWEA 2026 Annual Conference\, hosted by the Nevada Water Environment Association (NVWEA)\, will take place from February 23 to February 26\, 2026\, at the Tuscany Suites & Casino in Las Vegas\, Nevada. The four-day event features a program that includes a welcome reception\, multiple technical sessions covering topics relevant to the water environment\, a student poster session\, and an NWEA mixer. The conference concludes with optional tours of the North Las Vegas Water Reclamation Facility and the Las Vegas Water Pollution Control Facility. Full conference tickets range in price depending on NWEA membership status\, with special rates for full-time students.
URL:https://tech.vegas/event/nwea-2026-annual-conference/
LOCATION:Tuscany Suites & Casino\, 255 E. Flamingo Rd.\, Las Vegas\, NV\, 89169\, United States
CATEGORIES:Convention,Featured,Networking
ATTACH;FMTTYPE=image/png:https://tech.vegas/wp-content/uploads/2025/11/image-9.png
END:VEVENT
BEGIN:VEVENT
DTSTART;TZID=America/Los_Angeles:20260223T080000
DTEND;TZID=America/Los_Angeles:20260223T093000
DTSTAMP:20260420T113208
CREATED:20260202T190940Z
LAST-MODIFIED:20260202T190940Z
UID:10006792-1771833600-1771839000@tech.vegas
SUMMARY:Southern Nevada Forum First Meeting 2026
DESCRIPTION:@ 			\n			\n							 \n\nThe Southern Nevada Forum was developed in 2013 by Southern Nevada legislators\, the Vegas Chamber\, the City of Las Vegas and several other stakeholders. The forum’s purpose then and now is to collect ideas that support the priorities of Southern Nevadans\, with the intention of those ideas becoming bills in the upcoming legislative session.  \nThrough the forum\, Nevadans get to engage in the legislative process and share their perspective on the challenges facing the state.  \nThe Southern Nevada Forum meets every other year and helps to determine what regional issues will be prioritized during the upcoming legislative session. The forum is broken down into the following four committees: \nEconomic Development\, Workforce & Good Governance \nEducation (K-12 & Higher Education) \nHealthcare \nTransportation & Infrastructure \nIf you’d like to participate in a specific committee\, please fill out the interest form HERE. \nThe 2026 Southern Nevada Forum will hold its first meeting on February 23rd. Check in will run from 8 a.m. to 8:30\, and the program will run from 8:30 to 9:30. The meetings will run monthly until June. Committee meetings will consist of presentations and discussion on the topics most important to residents in Southern Nevada.  \n\n		\n\n\nVegas Chamber\n \nView Organizer Website \n \n\n\n\n\n\n\n						\n	\n	\n\n						\n							Add to calendar						\n						\n	\n\n					\n\n\n\n									\n										Google Calendar									\n								\n\n									\n										iCalendar									\n								\n\n									\n										Outlook 365									\n								\n\n									\n										Outlook Live
URL:https://tech.vegas/event/southern-nevada-forum-first-meeting-2026/
LOCATION:City of Las Vegas City Hall\, 495 S. Main St\, Las Vegas
CATEGORIES:Chamber,Featured
ATTACH;FMTTYPE=image/png:https://tech.vegas/wp-content/uploads/2026/02/Vegas-Chamber-Event-Banner-1-NHAYCq.png
END:VEVENT
BEGIN:VEVENT
DTSTART;TZID=America/Los_Angeles:20260223T080000
DTEND;TZID=America/Los_Angeles:20260225T193000
DTSTAMP:20260420T113208
CREATED:20251213T230650Z
LAST-MODIFIED:20251213T230650Z
UID:10006502-1771833600-1772047800@tech.vegas
SUMMARY:MoneyShow / TradersExpo Las Vegas
DESCRIPTION:Join us at MoneyShow / TradersExpo Las Vegas\, February\, for expert financial advice and strategies to level up your money game!\n\n\nWelcome to the MoneyShow/TradersExpo Las Vegas! Join us for an exciting in-person event at Paris – Las Vegas. This will take place February 23-25. Engage with financial experts\, network with like-minded individuals\, and gain valuable insights into the world of investing. Don’t miss this opportunity to expand your knowledge and grow your financial expertise. Register now to secure your spot! \n\n\nWith a new year come new profit opportunities galore…IF you know where to find them! At our FIRST live event of 2026\, MoneyShow experts will give you the tools\, knowledge\, and actionable picks you need to get your portfolio started off on a high note. You’ll also learn about how important developments\, like the midterm elections and a new team at the Federal Reserve\, will impact markets. Plus\, you’ll get top-flight trading help from experts with all the right skills and experience. And you’ll have a great time doing it all – courtesy of the social experiences\, speaker interactions\, and networking events we have planned for this year’s event.
URL:https://tech.vegas/event/moneyshow-tradersexpo-las-vegas/
LOCATION:Paris Las Vegas\, 3365 Las Vegas Blvd\, Las Vegas\, NV 89109\, Las Vegas
CATEGORIES:Featured
ATTACH;FMTTYPE=image/jpeg:https://tech.vegas/wp-content/uploads/2025/12/17057a7a8be86f34a7befadb034300fa.jpg
END:VEVENT
BEGIN:VEVENT
DTSTART;TZID=America/Los_Angeles:20260225T170000
DTEND;TZID=America/Los_Angeles:20260225T210000
DTSTAMP:20260420T113208
CREATED:20260213T163144Z
LAST-MODIFIED:20260213T172445Z
UID:10006821-1772038800-1772053200@tech.vegas
SUMMARY:Tech Alley Henderson February 2026
DESCRIPTION:Join us at Tech Alley Henderson’s February Event — featuring a Pitch Competition in Collaboration with UNLV Office of Economic Development\, Karma Hunter\, America’s SBDC Amazon Web Services (AWS)\, Softchoice and ELEVATE LAS VEGAS!We’re bringing together founders\, technologists\, investors\, and business leaders for a high-energy evening focused on innovation\, collaboration\, and real startup opportunity in Henderson’s growing tech ecosystem.Have a tech or AI idea at any stage? Whether you’re sitting on an idea\, already building but stuck\, or not technical but confident the problem is real — this is your chance to pitch and compete for up to $25\,000 in development support.The Pass Casino — 140 S Water Street\, HendersonFebruary 255–9 PMFor more information on the Pitch Competition please contact Karma HunterFeaturing guest speakers Mónica Taher (Founder\, Cleverslot) and Michael Johnson (Founder ASD.me)\, both former Pitch Competition Winners\, plus community partners supporting startup growth across the region.Tech Alley Henderson is the city’s monthly innovation and startup convening — designed to connect\, educate\, and activate entrepreneurs while strengthening Henderson’s technology and business ecosystem.Visit: https://lnkd.in/gVkKJj-X to REGISTER NOW and test our new hashtag#InnovationHenderson Digital Ecosystem\, Companion Site to Tech Alley Henderson. Much more to come on this platform in the coming months!Thank you to our partners Diana Dikes\, Hello Henderson\, Social Alignment Life Savers Restoration\, LLC\, Henderson Economic Development
URL:https://tech.vegas/event/tech-alley-henderson-february-2026/
LOCATION:The Pass\, 140 S. Water Street\, Henderson\, Nevada\, 89015\, United States
CATEGORIES:Economic Development,Featured,Networking,Startups,Technology
ATTACH;FMTTYPE=image/png:https://tech.vegas/wp-content/uploads/2026/02/image-4.png
END:VEVENT
END:VCALENDAR