BEGIN:VCALENDAR
VERSION:2.0
PRODID:-//Tech.Vegas - ECPv6.15.20//NONSGML v1.0//EN
CALSCALE:GREGORIAN
METHOD:PUBLISH
X-WR-CALNAME:Tech.Vegas
X-ORIGINAL-URL:https://tech.vegas
X-WR-CALDESC:Events for Tech.Vegas
REFRESH-INTERVAL;VALUE=DURATION:PT1H
X-Robots-Tag:noindex
X-PUBLISHED-TTL:PT1H
BEGIN:VTIMEZONE
TZID:America/Los_Angeles
BEGIN:DAYLIGHT
TZOFFSETFROM:-0800
TZOFFSETTO:-0700
TZNAME:PDT
DTSTART:20250309T100000
END:DAYLIGHT
BEGIN:STANDARD
TZOFFSETFROM:-0700
TZOFFSETTO:-0800
TZNAME:PST
DTSTART:20251102T090000
END:STANDARD
BEGIN:DAYLIGHT
TZOFFSETFROM:-0800
TZOFFSETTO:-0700
TZNAME:PDT
DTSTART:20260308T100000
END:DAYLIGHT
BEGIN:STANDARD
TZOFFSETFROM:-0700
TZOFFSETTO:-0800
TZNAME:PST
DTSTART:20261101T090000
END:STANDARD
BEGIN:DAYLIGHT
TZOFFSETFROM:-0800
TZOFFSETTO:-0700
TZNAME:PDT
DTSTART:20270314T100000
END:DAYLIGHT
BEGIN:STANDARD
TZOFFSETFROM:-0700
TZOFFSETTO:-0800
TZNAME:PST
DTSTART:20271107T090000
END:STANDARD
END:VTIMEZONE
BEGIN:VEVENT
DTSTART;TZID=America/Los_Angeles:20260105T080000
DTEND;TZID=America/Los_Angeles:20260105T170000
DTSTAMP:20260420T125602
CREATED:20260102T144038Z
LAST-MODIFIED:20260102T144040Z
UID:10006545-1767600000-1767632400@tech.vegas
SUMMARY:GLOBAL BUSINESS INNOVATION SUMMIT
DESCRIPTION:The Global Business Innovation Summit is a premier professional gathering designed to connect international business leaders\, policymakers\, investors\, and innovators. Held at the Canyon Gate Country Club in Las Vegas\, the event focuses on advancing global trade and market expansion through technology-driven solutions. The program features keynote presentations from industry experts\, visionary panel discussions\, and specialized spotlight sessions that explore emerging trends in areas such as sports\, entertainment\, and digital transformation. Beyond its educational components\, the summit serves as a strategic networking hub\, offering participants the opportunity to establish multinational relationships and explore sustainable growth strategies within a collaborative environment.
URL:https://tech.vegas/event/global-business-innovation-summit/
CATEGORIES:Featured,Networking,Technology
ATTACH;FMTTYPE=image/png:https://tech.vegas/wp-content/uploads/2026/01/image.png
END:VEVENT
BEGIN:VEVENT
DTSTART;TZID=America/Los_Angeles:20260106T000000
DTEND;TZID=America/Los_Angeles:20260109T235959
DTSTAMP:20260420T125602
CREATED:20250929T063427Z
LAST-MODIFIED:20251212T224418Z
UID:10006273-1767657600-1768003199@tech.vegas
SUMMARY:CES 2026
DESCRIPTION:The world’s most powerful tech event is your place to experience the innovations transforming how we live. \n\n\n\nThis is where global brands get business done\, meet new partners and where the industry’s sharpest minds take the stage to unveil their latest releases and boldest breakthroughs. Get a real feel for the latest solutions to the world’s biggest challenges with immersive activations and demos. Engage with the greatest minds and most impactful brands of our time. 
URL:https://tech.vegas/event/ces-2026/
CATEGORIES:Featured,Technology
ATTACH;FMTTYPE=image/png:https://tech.vegas/wp-content/uploads/2025/09/image-11.png
END:VEVENT
BEGIN:VEVENT
DTSTART;TZID=America/Los_Angeles:20260107T170000
DTEND;TZID=America/Los_Angeles:20260107T190000
DTSTAMP:20260420T125602
CREATED:20251218T232911Z
LAST-MODIFIED:20251218T232911Z
UID:10006503-1767805200-1767812400@tech.vegas
SUMMARY:LevelUp @ CES: A Night to Elevate StartUps
DESCRIPTION:A special LevelUp during CES at the Historic Fifth Street School! \nLevelUp is an event for people that are interested in technology\, startups\, entrepreneurship\, community building\, and networking in the Las Vegas Valley. LevelUp gives an opportunity to startup founders to present their companies to the community with immediate feedback\, support\, and mentorship from a panel of successful investors\, entrepreneurs and other ecosystem leaders. The goal is to elevate each participant to the next level. \nFor 90 minutes the panel will hear presentations from local startups and then give feedback\, ask questions\, guide the founders to immediate next steps and even possibly invest in their business.\nIn addition to watching presentations\, attendees will have the opportunity to mingle with other participants. It’s an evening to learn\, connect\, support\, share\, mentor\, and inspire one another. \nLevelUp is free and open to anyone interested in entrepreneurship regardless of their background or the stage of their company. We aim to facilitate a friendly and encouraging environment. \nThis event will be held periodically and will help grow the ecosystem by bringing the entrepreneur communities together to share entrepreneurial excitement\, energy\, and encouragement.
URL:https://tech.vegas/event/levelup-ces-a-night-to-elevate-startups/
LOCATION:Historic Fifth Street School\, 401 South 4th Street\, Las Vegas\, NV\, 89101\, US
CATEGORIES:Featured,Startups
ATTACH;FMTTYPE=image/jpeg:https://tech.vegas/wp-content/uploads/2025/12/27387_image_highres_523700523.jpeg
ORGANIZER;CN="StartUp Vegas":MAILTO:meetup-group-zpqpperz-announce@messages.meetup.com
END:VEVENT
BEGIN:VEVENT
DTSTART;TZID=America/Los_Angeles:20260107T170000
DTEND;TZID=America/Los_Angeles:20260107T203000
DTSTAMP:20260420T125602
CREATED:20251119T191140Z
LAST-MODIFIED:20251213T224559Z
UID:10006393-1767805200-1767817800@tech.vegas
SUMMARY:Startup World Cup Las Vegas Regional 2026
DESCRIPTION:Get ready for the ultimate startup showdown in Las Vegas!  Meet Innovative Startups\,  Top Tier VC’s\, and Corporate Executives!STARTUP WORLD CUPStartup World Cup is a global series of conferences and competitions that bring together the top startups\, investors\, entrepreneurs and tech CEOs around the world. Starting with regional competitions in nearly 100+ countries across six continents\, hundreds of selected top technology startups compete for the chance to move onto the Grand Finale event in San Francisco to win a $1 million investment grand prize. Startup World Cup is organized by Pegasus Tech Ventures in partnership with investors and local sponsors. For more information on the Startup World Cup\, please visit https://www.startupworldcup.io. (www.pegasustechventures.com) Check out the Grand Finale 2024 Highlight Here. PAST JUGDES:Deborah Magid\, Managing Director\, DoubleStar Venture PartnersAidan Madigan-Curtis\, Partner\, Eclipse VenturesJay Eum\, General Partner\, GFT VenturesJeff Saling \, Managing Partner\, FundNV PAST SPEAKERS:Matthew Lungren\, CSO\, Microsoft HealthAnis Uzzaman\, CEO & Founder\, Pegasus Tech VenturesBill Reichert\, Partner\, Pegasus Tech VenturesSteve Payne\, Partner\, Pegasus Tech Ventures LOCATION:Planet Hollywood\, Las Vegas Ballroom TBA  AGENDA:5:00 PM – 5:30 PM: Registration  5:30 PM – 8:00 PM: Startup World Cup Pitch Event 15 companies will be selected to present on stage for the regional spot at our Grand Finale\, where they compete to win a $1M investment prize. 8:00 PM – 8:30 PM : Networking Reception Interact with Innovative Startups\, Top Tier VCs\, and Corporate Executives.  IMPORTANT: To prevent check-in issues on the day of the event\, please register with a different first and last name. Tickets with identical first and last names will be automatically CANCELLED. Please print your tickets or show on your mobile devices.  Please note that all ticket sales are final. Please note that all sales are final. Tickets are non-refundable and non-transferrable. Please also note that details and the content of the event may be subject to change at any time at the organizer’s sole discretion without formal notification. For more information\, please visit Startup World Cup: www.startupworldcup.io.
URL:https://tech.vegas/event/startup-world-cup-las-vegas-regional-2026/
LOCATION:Planet Hollywood Las Vegas Resort & Casino\, 3667 Las Vegas Boulevard South\, Las Vegas\, NV\, 89109\, United States
CATEGORIES:Featured,Startups
ATTACH;FMTTYPE=image/jpeg:https://tech.vegas/wp-content/uploads/2025/11/8656d8bbc883564783b52abb8de51c9f.jpg
END:VEVENT
BEGIN:VEVENT
DTSTART;TZID=America/Los_Angeles:20260109T080000
DTEND;TZID=America/Los_Angeles:20260111T170000
DTSTAMP:20260420T125602
CREATED:20260102T145030Z
LAST-MODIFIED:20260102T145032Z
UID:10006546-1767945600-1768150800@tech.vegas
SUMMARY:Geekout Las Vegas
DESCRIPTION:The GeekEx Las Vegas 2026 summit is an exclusive event specifically tailored for top-tier digital marketers\, e-commerce entrepreneurs\, and media buyers. Unlike broad industry conferences\, this gathering focuses on high-level strategy and “no-fluff” tactics\, featuring case studies and actionable insights directly from successful practitioners. The event is designed to foster an environment of high-impact networking\, where attendees can exchange real-world techniques for scaling brands and optimizing digital advertising performance. Participants gain access to a community of elite professionals\, making it a critical hub for those looking to stay at the forefront of the rapidly evolving e-commerce and digital marketing landscapes.
URL:https://tech.vegas/event/geekout-las-vegas/
CATEGORIES:Featured,Networking
ATTACH;FMTTYPE=image/png:https://tech.vegas/wp-content/uploads/2026/01/image-1-scaled.png
END:VEVENT
BEGIN:VEVENT
DTSTART;TZID=America/Los_Angeles:20260112T090000
DTEND;TZID=America/Los_Angeles:20260112T170000
DTSTAMP:20260420T125602
CREATED:20260111T213927Z
LAST-MODIFIED:20260111T213929Z
UID:10006573-1768208400-1768237200@tech.vegas
SUMMARY:Affiliate Summit West
DESCRIPTION:The home of affiliate marketing\n\n\n\nAffiliate Summit West is the world’s largest affiliate marketing event\, bringing together more than 7\,000 affiliates\, advertisers\, ecom sellers\, networks and tech partners in Las Vegas. If you’re serious about growth in affiliate marketing\, ASW is where it happens. \n\n\n\nFrom AI-powered growth to next-gen partnerships\, this is where strategies are shared\, relationships are built\, and high-value deals happen… In fact 81% of affiliates prefer ASW over any other event*.
URL:https://tech.vegas/event/affiliate-summit-west/
LOCATION:CAESARS FORUM\, 3911 South Koval Lane\, Las Vegas\, NV\, 89109\, United States
CATEGORIES:Business,Convention & Expo,Featured,Networking,Technology
ATTACH;FMTTYPE=image/png:https://tech.vegas/wp-content/uploads/2026/01/image-10-scaled.png
END:VEVENT
BEGIN:VEVENT
DTSTART;TZID=America/Los_Angeles:20260113T000000
DTEND;TZID=America/Los_Angeles:20260114T235959
DTSTAMP:20260420T125602
CREATED:20251030T090416Z
LAST-MODIFIED:20251030T090418Z
UID:10006347-1768262400-1768435199@tech.vegas
SUMMARY:Creator Economy Live West
DESCRIPTION:Creator Economy Live West is a premier influencer marketing conference designed specifically for brands\, bringing together marketing professionals\, content creators\, agencies\, and platforms at Caesars Forum in Las Vegas. The event features keynotes\, case studies\, panels\, and networking sessions focused on the creator economy and content monetization strategies\, with participation from major brands like Hinge\, NVIDIA\, Pepsico\, DeLonghi\, New Balance\, Royal Caribbean\, and Disney. Attendees gain insights from industry leaders through multiple tracks addressing pressing challenges in influencer marketing\, including budget optimization\, creator partnerships\, campaign measurement\, and emerging platform strategies. The conference offers hands-on learning opportunities\, access to senior-level marketing executives and influencer marketing specialists\, and exclusive networking events including meet markets where brands and creators can forge partnerships. Running concurrently with Affiliate Summit West\, Creator Economy Live West draws over a thousand mid to senior-level professionals in marketing\, partnerships\, and digital innovation roles\, making it an essential gathering for anyone looking to deepen consumer engagement through creator-led initiatives in an industry projected to reach four hundred eighty billion dollars by twenty twenty-seven.
URL:https://tech.vegas/event/creator-economy-live-west/
LOCATION:CAESARS FORUM\, 3911 South Koval Lane\, Las Vegas\, NV\, 89109\, United States
CATEGORIES:Featured,Las Vegas Business
ATTACH;FMTTYPE=image/png:https://tech.vegas/wp-content/uploads/2025/10/image-34.png
END:VEVENT
BEGIN:VEVENT
DTSTART;TZID=America/Los_Angeles:20260117T080000
DTEND;TZID=America/Los_Angeles:20260117T170000
DTSTAMP:20260420T125602
CREATED:20250515T194733Z
LAST-MODIFIED:20251031T202742Z
UID:10005582-1768636800-1768669200@tech.vegas
SUMMARY:Tech Alley
DESCRIPTION:Tech Alley is a dynamic\, community-driven initiative based in Las Vegas\, dedicated to nurturing the local technology and startup ecosystem. It serves as a vibrant hub where entrepreneurs\, technologists\, and innovators converge to share knowledge\, collaborate\, and bring ideas to fruition. Through a variety of events\, educational workshops\, and mentorship programs\, Tech Alley fosters an inclusive and diverse environment that promotes growth and success in the tech and startup community. Regular meetups Downtown Las Vegas are on the third Saturday of each month. \n\n\n\nBeyond events\, Tech Alley offers avenues for continuous engagement and learning. It features groups focused on various aspects of entrepreneurship and technology\, including design and fundraising\, led by community leaders. Additionally\, Tech Alley provides access to resident experts in fields like cybersecurity\, fundraising\, business law\, SEO\, and blockchain\, offering valuable insights to help navigate the complexities of business and technology. By uniting people and fostering a creative class\, Tech Alley plays a pivotal role in strengthening communities and promoting an innovative technology and startup culture in Las Vegas.
URL:https://tech.vegas/event/tech-alley/2026-01-17/
LOCATION:Taverna Costera\, 1031 S Main St\, Las Vegas\, NV\, 89101\, us
CATEGORIES:Economic Development,Educational,Featured,Networking,Pitch/ Competition,Startups,Technology
ATTACH;FMTTYPE=image/jpeg:https://tech.vegas/wp-content/uploads/2025/05/tech-alley-banner.jpg
GEO:36.159767;-115.15288
X-APPLE-STRUCTURED-LOCATION;VALUE=URI;X-ADDRESS=Taverna Costera 1031 S Main St Las Vegas NV 89101 us;X-APPLE-RADIUS=500;X-TITLE=1031 S Main St:geo:-115.15288,36.159767
END:VEVENT
BEGIN:VEVENT
DTSTART;TZID=America/Los_Angeles:20260119T000000
DTEND;TZID=America/Los_Angeles:20260122T000000
DTSTAMP:20260420T125602
CREATED:20260116T182051Z
LAST-MODIFIED:20260116T184648Z
UID:10006634-1768780800-1769040000@tech.vegas
SUMMARY:WORLD OF CONCRETE - WOC
DESCRIPTION:WELCOME TO WORLD OF CONCRETE – OVER 50 YEARS OF SERVICE TO THE CONCRETE AND MASONRY INDUSTRIES! \n\n\n\nWOC is the industry’s ONLY annual international tradeshow dedicated to the commercial concrete and masonry construction industries\, and takes place at the Las Vegas Convention Center\, 3150 Paradise Rd\, Las Vegas\, NV 89109. \n\n\n\n We connect and educate buyers and sellers  throughout the year. Our goal is to provide this important community with the connections\, intelligence\, and opportunities that help customers grow\, do business\, and make informed business decisions.
URL:https://tech.vegas/event/world-of-concrete-woc/
LOCATION:Las Vegas Convention Center\, 3150 Paradise Rd\, Las Vegas\, NV 89109\, United States
CATEGORIES:Convention,Educational,Featured
ATTACH;FMTTYPE=image/png:https://tech.vegas/wp-content/uploads/2026/01/10074-pvlh2Z.png
END:VEVENT
BEGIN:VEVENT
DTSTART;TZID=America/Los_Angeles:20260120T113000
DTEND;TZID=America/Los_Angeles:20260120T133000
DTSTAMP:20260420T125602
CREATED:20260107T004540Z
LAST-MODIFIED:20260107T004540Z
UID:10006558-1768908600-1768915800@tech.vegas
SUMMARY:SMPS 17th Annual Public Works Roundtable
DESCRIPTION:@ 			\n			\n							 \n\n\nMingle with Southern Nevada’s  public works officials at one of our most anticipated events of the year! \nEach year\, SMPS Las Vegas invites leaders from public agencies across Southern Nevada to share a brief 3- to 4-minute update on their jurisdiction. Attendees gain valuable insight into current projects\, upcoming initiatives\, and opportunities where A/E/C professionals can contribute. \nThis annual luncheon is a favorite and consistently sells out. Kick-off the New Year with meaningful connections and insightful updates. Don’t miss your chance to hear what’s in the pipeline for 2026 and beyond—and to network with the decision-makers shaping our region’s future. \nSeating is first come\, first served\, so be sure to arrive early.  No refunds available for this event\, transfers okay.  \n\n		\n\n\nSMPS\n \nView Organizer Website \n \n\n\n\n\n\n \n\n\n\n\n\n						\n	\n	\n\n						\n							Add to calendar						\n						\n	\n\n					\n\n\n\n									\n										Google Calendar									\n								\n\n									\n										iCalendar									\n								\n\n									\n										Outlook 365									\n								\n\n									\n										Outlook Live
URL:https://tech.vegas/event/smps-17th-annual-public-works-roundtable/
LOCATION:WSKY Stadium\, 5625 Polaris Ave Suite 100 Las Vegas\, NV 89118
CATEGORIES:Featured,Las Vegas Business,Networking,Professional Association,Real Estate & Construction
ATTACH;FMTTYPE=image/png:https://tech.vegas/wp-content/uploads/2026/01/image-1-nTFYXO.png
END:VEVENT
BEGIN:VEVENT
DTSTART;TZID=America/Los_Angeles:20260121T170000
DTEND;TZID=America/Los_Angeles:20260121T203000
DTSTAMP:20260420T125602
CREATED:20251229T205358Z
LAST-MODIFIED:20260108T160024Z
UID:10006533-1769014800-1769027400@tech.vegas
SUMMARY:Tech Alley Henderson
DESCRIPTION:Kick Off 2026 with Tech Alley Henderson Our first Tech Alley Henderson event of the year is just two weeks away\, and it’s shaping up to be one you won’t want to miss.Wednesday\, January 21\, 20265:00 – 8:30 PM📍 The Pass Casino | 140 S. Water St.\, HendersonWe’re starting the year with fresh ideas\, inspiring voices\, and a few surprise reveals\, all focused on strengthening and growing Henderson’s innovation and tech ecosystem.🎤 Special Guest Speakers:Shaq CruzTodd DeRemerHosny RoushdiJonathan SterrittThis event brings together entrepreneurs\, tech leaders\, business owners\, investors\, and community champions who care about innovation\, opportunity\, and collaboration right here in Southern Nevada.A huge thank you to our sponsors and partners for helping make this possible — your continued support fuels our local ecosystem.City of Henderson Henderson Economic Development\, Life Savers Restoration\, LLC Diana Dikes HOPELINK OF SOUTHERN NEVADARegister now and join us as we set the tone for 2026: https://lnkd.in/g8gx6x3M
URL:https://tech.vegas/event/tech-alley-henderson-2/
LOCATION:The Pass\, 140 S. Water Street\, Henderson\, Nevada\, 89015\, United States
CATEGORIES:Featured,Networking,Startups,Technology
ATTACH;FMTTYPE=image/png:https://tech.vegas/wp-content/uploads/2025/12/image-8.png
END:VEVENT
BEGIN:VEVENT
DTSTART;TZID=America/Los_Angeles:20260127T170000
DTEND;TZID=America/Los_Angeles:20260127T170000
DTSTAMP:20260420T125602
CREATED:20260108T213142Z
LAST-MODIFIED:20260108T213142Z
UID:10006568-1769533200-1769533200@tech.vegas
SUMMARY:The Challenges and Opportunities of AI in Las Vegas
DESCRIPTION:@ 			\n			\n							 \n\nJoin us as the Economic Club of Las Vegas welcomes Brett Abarbanel\, Ph.D.\, Executive Director at the UNLV International Gaming Institute and Associate Professor in UNLVs William F. Harrah College of Hotel Administration\, Dr. Kasra Ghaharian\, Director of Research at the UNLV International Gaming Institute\, and Rick Arpin\, Las Vegas Office Manager at KPMG\, as they discuss how AI is impacting the Las Vegas gaming economy during a panel discussion. \n\n\n\n\n\n						\n	\n	\n\n						\n							Add to calendar						\n						\n	\n\n					\n\n\n\n									\n										Google Calendar									\n								\n\n									\n										iCalendar									\n								\n\n									\n										Outlook 365									\n								\n\n									\n										Outlook Live									\n								\n\n \n \n \n \n\n\n\n					Details\n	\n\n\n				Date:\n				\n					  \n				\n			\n\n				Time:
URL:https://tech.vegas/event/the-challenges-and-opportunities-of-ai-in-las-vegas/
CATEGORIES:Education,Featured,Networking
ATTACH;FMTTYPE=image/png:https://tech.vegas/wp-content/uploads/2026/01/AI-Panel-Discussion-Featured-Image-fMANdz-bZyTIx.png
END:VEVENT
BEGIN:VEVENT
DTSTART;TZID=America/Los_Angeles:20260128T110000
DTEND;TZID=America/Los_Angeles:20260128T130000
DTSTAMP:20260420T125602
CREATED:20251229T185424Z
LAST-MODIFIED:20251229T185424Z
UID:10006531-1769598000-1769605200@tech.vegas
SUMMARY:2026 Economic Outlook:  Mapping the Market’s Next Move
DESCRIPTION:@ 			\n			\n							 \n\n\n2026 Economic Outlook: Mapping the Market’s Next Move \nWednesday\, January 28\, 2026 |  11:15 AM – 1:00 PM \nNOTE: New Start Times11:15 AM – Registration/Check-in11:45 AM – Program \nNew Year means New Coupon Code for Chapter Sponsors \nRegistration Deadline – 5:00 p.m.\, Friday\, January 23\, 2026 \n$65 – All payments made after the Registration Deadline or the day of the luncheon with or without Advance Registration. \n\n		\n\n\nSNCCIM\n \nView Organizer Website \n \n\n\n\n\n\n \n\n\n\n\n\n						\n	\n	\n\n						\n							Add to calendar						\n						\n	\n\n					\n\n\n\n									\n										Google Calendar									\n								\n\n									\n										iCalendar									\n								\n\n									\n										Outlook 365									\n								\n\n									\n										Outlook Live
URL:https://tech.vegas/event/2026-economic-outlook-mapping-the-markets-next-move/
LOCATION:Orleans Hotel & Casino\, 4500 W Tropicana Road 2nd Floor Convention Area\, Las Vegas\, NV\, 89103\, United States
CATEGORIES:Featured,Networking,Professional Association,Real Estate & Construction
ATTACH;FMTTYPE=image/png:https://tech.vegas/wp-content/uploads/2025/12/image-18-dAXMpy.png
END:VEVENT
BEGIN:VEVENT
DTSTART;TZID=America/Los_Angeles:20260129T170000
DTEND;TZID=America/Los_Angeles:20260129T193000
DTSTAMP:20260420T125602
CREATED:20251222T101151Z
LAST-MODIFIED:20260114T235225Z
UID:10006505-1769706000-1769715000@tech.vegas
SUMMARY:Planes\, Trains & AutomobilesTransportation & Mobility in Las Vegas
DESCRIPTION:Purchase Your Ticket! | \n\n\n\nUNLV’s Center for Business and Economic Research (CBER) is excited to kick off the 2026 Brews and Economic Views series with a conversation that impacts every person who lives in Southern Nevada:Planes\, Trains & Automobiles: Transportation Infrastructure in Las VegasJoin us on January 29 from 5:00–7:30 p.m. as we examine the challenges and opportunities facing mobility in our rapidly growing region.From increasing traffic on our local roads to the arrival of high-speed rail and the expanding role of autonomous vehicles\, Southern Nevada’s transportation network is at a pivotal moment. We’ll explore the transportation infrastructure we have\, the mobility options on the horizon\, and the infrastructure we need to support long-term economic growth. |  | \n\n\n\nFast Facts:CBER forecasts the population of Clark County could grow to as much as 3 million by 2044\, up from 2.4 million. \n\n\n\nSource: CBER’s 2025 Population ForecastUNLV’s CBER and TRC forecasts freight travel leaving Las Vegas to increase 33 percent and within Clark County in increase 72.3 percent between now and 2050. \n\n\n\nSource: Southern Nevada Regional Industrial Study (March 2024)In 2024\, Harry Reid International hit a record 58.4 million passengers. \n\n\n\nUNLV’s Center for Business and Economic Research (CBER) is excited to kick off the 2026 Brews & Economic Views series with a conversation that impacts every person who lives in Southern Nevada: transportation. Join us Thursday\, January 29 from 5:00–7:30 p.m. as we examine transportation and mobility in our rapidly growing region.From increasing traffic on our local roads to the arrival of high-speed rail and the expanding role of autonomous vehicles\, Southern Nevada’s transportation network is at a pivotal moment. We’ll explore the transportation infrastructure we have\, the mobility options on the horizon\, and the infrastructure we need to support long-term economic growth.We’re excited to announce the first three panelists for this event:\n\n\n\nProfessor Shashi Nambisan\, Ph.D.\, P.E.Director\, Transportation Research Center & Professor of Civil EngineeringUniversity of Nevada\, Las VegasProfessor Nambisan has more than 36 years of experience in transportation research and leadership\, including nearly three decades leading research centers and institutes across the U.S. He has directed more than 185 projects spanning safety\, data analytics\, policy support\, and transportation systems management\, and has authored over 180 peer-reviewed publications. His contributions to transportation in Nevada were recognized by a gubernatorial proclamation designating January 31\, 2007 as “Professor Shashi Nambisan Day.” He is also a frequent research colleague with the Center for Business and Economic Research.\n\n\n\nAndrew KjellmanSenior Director\, Metropolitan Planning OrganizationRegional Transportation Commission of Southern Nevada (RTCSNV)Andrew Kjellman oversees federal transportation funding and leads regional planning initiatives for the RTC\, guiding the agency’s response to Southern Nevada’s population and visitor growth. His work focuses on improving roads and expanding transportation options to support the region’s continued development. Kjellman began his career in Washington state and joined the RTC in 2011\, rising through the organization to his current role as Senior Director.\n\n\n\n\n\n\n\nAntonio CastelanDirector of Public Affairs\, Brightline WestAntonio Castelan leads public relations and community engagement for Brightline West\, the high-speed rail project connecting Las Vegas to Southern California. An accomplished communications professional\, he brings a distinguished background in public affairs\, media relations\, and strategic communications to one of the region’s most transformative infrastructure projects.\n\n\n\nWhether you’re in business\, development\, government\, or simply interested in how Southern Nevada grows and moves\, this is a conversation you won’t want to miss.﻿Register now to save your seat and join us for engaging discussion\, valuable insights\, and great brews. Additional panelists will be announced soon. We look forward to seeing you on January 29.\n\n\n\nPurchase Your Ticket!
URL:https://tech.vegas/event/planes-trains-automobilestransportation-mobility-in-las-vegas/
LOCATION:TBD\, Las Vegas
CATEGORIES:Featured,Las Vegas Business,Networking
ATTACH;FMTTYPE=image/png:https://tech.vegas/wp-content/uploads/2025/12/image-3.png
END:VEVENT
BEGIN:VEVENT
DTSTART;TZID=America/Los_Angeles:20260130T073000
DTEND;TZID=America/Los_Angeles:20260130T133000
DTSTAMP:20260420T125602
CREATED:20260122T184546Z
LAST-MODIFIED:20260122T184546Z
UID:10006764-1769758200-1769779800@tech.vegas
SUMMARY:Preview Las Vegas 2026
DESCRIPTION:@ 			\n			\n							 \n\n\nPreview Las Vegas isn’t just about hearing the latest trends—it’s about preparing for the future. Join the 1\,500+ business leaders who make this the must-attend event of the year! Join us to: \n\nPreview economic trends that shape Nevada’s growth.\nPreview the future of Las Vegas as a global brand.\nPreview Vegas networking opportunities with leaders and innovators.\n\n“Preview Las Vegas” is the premier networking and economic forecasting event of the year.  This unparalleled signature experience attracts more than 1\,500 attendees. Hear the latest information about the economy\, growth\, and tourism. Gain important insight on critical information you need to know for 2026 and beyond. Don’t miss out\, book your tickets today. \nPlease note\, ticket sales are final. \nFor booth inquiries\, please contact Deborah Makiri\, Senior Director of Membership and Revenue at dmakiri@VegasChamber.com. \nIf you have any questions\, please contact the Vegas Chamber Events Team at VegasChamberEvents@VegasChamber.com \n \n\n		\n\n\nVegas Chamber\n \nView Organizer Website \n \n\n\n\n\n\n \n\n\n\n\n\n						\n	\n	\n\n						\n							Add to calendar						\n						\n	\n\n					\n\n\n\n									\n										Google Calendar									\n								\n\n									\n										iCalendar									\n								\n\n									\n										Outlook 365									\n								\n\n									\n										Outlook Live
URL:https://tech.vegas/event/preview-las-vegas-2026/
LOCATION:Wynn Las Vegas\, 3131 Las Vegas Blvd S\, Las Vegas\, NV 89109\, United States
CATEGORIES:Featured,Networking
ATTACH;FMTTYPE=image/png:https://tech.vegas/wp-content/uploads/2026/01/image-20-4x2et5.png
END:VEVENT
END:VCALENDAR