BEGIN:VCALENDAR
VERSION:2.0
PRODID:-//Tech.Vegas - ECPv6.15.20//NONSGML v1.0//EN
CALSCALE:GREGORIAN
METHOD:PUBLISH
X-WR-CALNAME:Tech.Vegas
X-ORIGINAL-URL:https://tech.vegas
X-WR-CALDESC:Events for Tech.Vegas
REFRESH-INTERVAL;VALUE=DURATION:PT1H
X-Robots-Tag:noindex
X-PUBLISHED-TTL:PT1H
BEGIN:VTIMEZONE
TZID:America/Los_Angeles
BEGIN:DAYLIGHT
TZOFFSETFROM:-0800
TZOFFSETTO:-0700
TZNAME:PDT
DTSTART:20240310T100000
END:DAYLIGHT
BEGIN:STANDARD
TZOFFSETFROM:-0700
TZOFFSETTO:-0800
TZNAME:PST
DTSTART:20241103T090000
END:STANDARD
BEGIN:DAYLIGHT
TZOFFSETFROM:-0800
TZOFFSETTO:-0700
TZNAME:PDT
DTSTART:20250309T100000
END:DAYLIGHT
BEGIN:STANDARD
TZOFFSETFROM:-0700
TZOFFSETTO:-0800
TZNAME:PST
DTSTART:20251102T090000
END:STANDARD
BEGIN:DAYLIGHT
TZOFFSETFROM:-0800
TZOFFSETTO:-0700
TZNAME:PDT
DTSTART:20260308T100000
END:DAYLIGHT
BEGIN:STANDARD
TZOFFSETFROM:-0700
TZOFFSETTO:-0800
TZNAME:PST
DTSTART:20261101T090000
END:STANDARD
END:VTIMEZONE
BEGIN:VEVENT
DTSTART;TZID=America/Los_Angeles:20251201T080000
DTEND;TZID=America/Los_Angeles:20251205T170000
DTSTAMP:20260420T141058
CREATED:20251030T085934Z
LAST-MODIFIED:20251030T085936Z
UID:10006346-1764576000-1764954000@tech.vegas
SUMMARY:AWS re:Invent
DESCRIPTION:AWS re:Invent is Amazon Web Services’ flagship annual conference that brings together the global cloud computing community for an immersive week of learning\, innovation\, and networking in Las Vegas. The event features groundbreaking keynote announcements from AWS CEO Matt Garman and senior executives unveiling the latest cloud products and services\, alongside more than 1\,000 technical sessions covering topics from AWS core services to emerging technologies like generative AI. Attendees gain direct access to AWS experts\, architects\, and partners\, participate in hands-on workshops and demos in the Expo\, and benefit from various learning formats including breakout sessions\, builders’ sessions\, chalk talks\, and AWS Certification preparation opportunities. Beyond the technical content\, re:Invent offers exceptional networking opportunities through social events\, informal gatherings\, and re:Play\, the industry’s largest celebration\, allowing cloud pioneers and innovators from across the globe to build lasting professional relationships while exploring cutting-edge solutions that drive business transformation and innovation.
URL:https://tech.vegas/event/aws-reinvent/
CATEGORIES:Featured,Technology
ATTACH;FMTTYPE=image/png:https://tech.vegas/wp-content/uploads/2025/10/image-33.png
END:VEVENT
BEGIN:VEVENT
DTSTART;TZID=America/Los_Angeles:20251202T000000
DTEND;TZID=America/Los_Angeles:20251205T235959
DTSTAMP:20260420T141058
CREATED:20251030T090832Z
LAST-MODIFIED:20251129T173831Z
UID:10006348-1764633600-1764979199@tech.vegas
SUMMARY:MjBizCon
DESCRIPTION:MJBizCon is the largest cannabis business conference in the world\, held annually in Las Vegas. The event brings together thousands of industry professionals\, exhibitors\, and speakers for a comprehensive B2B cannabis experience. Attendees can explore an extensive expo hall featuring four distinct pavilions covering cultivation\, processing\, retail\, and business services\, while participating in curated conference sessions led by industry leaders. The conference emphasizes networking and relationship-building through various events and forums\, including pre-show forums on topics like finance\, marketing\, and science. MJBizCon serves as a central gathering point for the cannabis industry community to make connections\, discover innovations\, source products and services\, and gain actionable insights to grow their businesses.
URL:https://tech.vegas/event/mjbizcon/
LOCATION:Las Vegas Convention Center\, 3150 Paradise Rd\, Las Vegas\, NV 89109\, United States
CATEGORIES:Featured,Las Vegas Business,Networking
ATTACH;FMTTYPE=image/png:https://tech.vegas/wp-content/uploads/2025/10/image-36.png
END:VEVENT
BEGIN:VEVENT
DTSTART;TZID=America/Los_Angeles:20251203T080000
DTEND;TZID=America/Los_Angeles:20251203T173000
DTSTAMP:20260420T141058
CREATED:20251110T223138Z
LAST-MODIFIED:20251111T010029Z
UID:10006373-1764748800-1764783000@tech.vegas
SUMMARY:NLHA Technology Conference
DESCRIPTION:
URL:https://tech.vegas/event/nlha-technology-conference/
LOCATION:Blackfire Innovation\, 8400 W Sunset Rd Suite 400\, Las Vegas\, NV\, 89113\, United States
CATEGORIES:Convention & Expo,Featured,Hospitality & Gaming,Technology
ATTACH;FMTTYPE=image/png:https://tech.vegas/wp-content/uploads/2025/11/image-1.png
END:VEVENT
BEGIN:VEVENT
DTSTART;TZID=America/Los_Angeles:20251207T080000
DTEND;TZID=America/Los_Angeles:20251209T170000
DTSTAMP:20260420T141058
CREATED:20250819T214653Z
LAST-MODIFIED:20250819T214655Z
UID:10006157-1765094400-1765299600@tech.vegas
SUMMARY:Live Design International (LDI)
DESCRIPTION:Live Design International (LDI) is the preeminent conference and trade show for live entertainment\, design\, and technology professionals from around the globe. Held annually in Las Vegas\, LDI brings together hundreds of cutting-edge exhibitors and thousands of attendees to explore next-generation gear\, from lighting and video to rigging and automation. Attendees gain access to the industry’s most extensive professional training programs\, including the LDInstitute™ and LDInnovation™ Conference\, featuring abundant sessions\, hands-on workshops\, and credentialing opportunities. Beyond the expo floor\, LDI delivers vibrant networking experiences—like New Technology Breakfasts\, portfolio reviews\, and “LDI After Dark” events—and nurtures future industry talent through its Foster the Future initiative for young professionals.bluesealighting.com+15ldishow.com+15instagram.com+15
URL:https://tech.vegas/event/live-design-international-ldi/
LOCATION:Las Vegas Convention Center\, 3150 Paradise Rd\, Las Vegas\, NV 89109\, United States
CATEGORIES:Featured,Networking
ATTACH;FMTTYPE=image/png:https://tech.vegas/wp-content/uploads/2025/08/image-10.png
END:VEVENT
BEGIN:VEVENT
DTSTART;TZID=America/Los_Angeles:20251208T090000
DTEND;TZID=America/Los_Angeles:20251208T160000
DTSTAMP:20260420T141058
CREATED:20251203T190354Z
LAST-MODIFIED:20251203T190356Z
UID:10006476-1765184400-1765209600@tech.vegas
SUMMARY:Building Resilience: Adaptations for a Changing Climate in Nevada
DESCRIPTION:Building Resilience: Adaptations for a Changing Climate in Nevada \n\n\n\nThe importance of resilience in our built environment cannot be overstated. 2024 and 2023 saw the highest number of billion-dollar disasters on record in U.S. history (NOAA). The increase in the frequency and severity of extreme weather events\, such as hurricanes\, wildfires\, floods and heat waves can disrupt critical infrastructure\, endanger lives and damage property. Our built environment must be designed\, constructed and operated to mitigate risk and sustain our communities.  \n\n\n\n USGBC works to transform the way buildings and communities are designed\, built\, and operated — resilience is a clear extension of this work. We know that more sustainable buildings are the cornerstone to enhancing community resilience.  \n\n\n\n USGBC’s Building Transformation Forums convene industry leaders\, practitioners\, and sustainability professionals to learn and engage around specific\, locally relevant topics. Built around growing connections and green building education\, forum models adapt to meet audience needs and inspire action. Check out our calendar on usgbc.org to see our upcoming forums nationwide. \n\n\n\nThis forum also includes a deep-dive interactive workshop with USGBC staff specializing in the TRUE rating system. Participants will be given the tools to transform their waste management plan into a commodity resource\, zero-waste-based plan to create a circular economy locally and globally. Focus will be on the key components of the TRUE Rating System and on hands-on opportunities to collaborate and apply strategies directly to their own projects. \n\n\n\nJoin USGBC Nevada to discuss leading edge examples\, best practices and USGBC tools and resources to support your resilience goals.  \n\n\n\nUSGBC’s Building Transformation Forums convene industry leaders\, practitioners\, and sustainability professionals to learn and engage around specific\, locally relevant topics. Built around growing connections and green building education\, forum models adapt to meet audience needs and inspire action. Check out our calendar on usgbc.org/events to see our upcoming forums nationwide.
URL:https://tech.vegas/event/building-resilience-adaptations-for-a-changing-climate-in-nevada/
LOCATION:The Springs Preserve\, Desert Living Center Conf room A-D 333 S. Valley View Blvd. Las Vegas\, NV 89107
CATEGORIES:Community,Featured,Networking,Southern Nevada
ATTACH;FMTTYPE=image/png:https://tech.vegas/wp-content/uploads/2025/12/image-1.png
END:VEVENT
BEGIN:VEVENT
DTSTART;TZID=America/Los_Angeles:20251209T000000
DTEND;TZID=America/Los_Angeles:20251211T235959
DTSTAMP:20260420T141058
CREATED:20251025T084114Z
LAST-MODIFIED:20251025T084116Z
UID:10006343-1765238400-1765497599@tech.vegas
SUMMARY:Gartner IT Infrastructure\, Operations & Cloud Strategies Conference 2025
DESCRIPTION:Join the premier conference for infrastructure\, operations and cloud leaders focused on delivering transformation and leading their teams toward a resilient and innovative future. Addressing priorities like hybrid cloud\, AI/GenAI/agentic AI\, cost and value\, and more.
URL:https://tech.vegas/event/gartner-it-infrastructure-operations-cloud-strategies-conference-2025/
CATEGORIES:Featured,Networking
ATTACH;FMTTYPE=image/png:https://tech.vegas/wp-content/uploads/2025/10/image-32.png
END:VEVENT
BEGIN:VEVENT
DTSTART;TZID=America/Los_Angeles:20251210T000000
DTEND;TZID=America/Los_Angeles:20251211T235959
DTSTAMP:20260420T141058
CREATED:20251112T101357Z
LAST-MODIFIED:20251112T101359Z
UID:10006374-1765324800-1765497599@tech.vegas
SUMMARY:INSPIRE USA
DESCRIPTION:The INSPIRE USA Luxury Hospitality Conference is a premier B2B forum for leaders in the luxury hotel sector. The 16th edition of this event is scheduled to take place on December 10–11\, 2025\, in Las Vegas at Resorts World. Organized by the International Luxury Hotel Association\, the two-day conference is an exclusive gathering focused on deal-making\, high-level networking\, and curated one-on-one sessions with top industry professionals. It brings together over a thousand attendees\, features more than one hundred speakers\, and hosts a dynamic exhibition floor for solution providers.
URL:https://tech.vegas/event/inspire-usa/
LOCATION:Resorts World Las Vegas\, 3000 South Las Vegas Boulevard\, Las Vegas\, NV\, 89109\, United States
CATEGORIES:Featured,Hospitality,Networking
ATTACH;FMTTYPE=image/png:https://tech.vegas/wp-content/uploads/2025/11/image-2.png
END:VEVENT
BEGIN:VEVENT
DTSTART;TZID=America/Los_Angeles:20251210T170000
DTEND;TZID=America/Los_Angeles:20251210T210000
DTSTAMP:20260420T141058
CREATED:20251202T213630Z
LAST-MODIFIED:20251202T213630Z
UID:10006471-1765386000-1765400400@tech.vegas
SUMMARY:Athlete & Investor Networking * AI * Longevity * Sports
DESCRIPTION:Experience the JouleFit destination gym for a 15 minute workout powered by a state-of-the-art proprietary AI and robotics fitness circuit.\n\n\nAthlete & Investor Networking * AI * Longevity * SportsDecember 10\, 2025 | JouleFit\, Las Vegas\, NVVisionary Athletes * Startups * Investors with Next-Gen OpportunitiesJoin athletes\, investors and industry professionals for an exclusive\, networking event showcasing cutting-edge investment opportunities across sectors like AI\, Blockchain\, Consumer Products\, Hospitality\, Longevity\, Medtech\, Real Estate\, Sports & Tech \nThis event is designed to connect accredited investors\, venture capitalists\, private equity firms\, family offices\, and other high-net-worth individuals with a curated lineup of presenting companies and entrepreneurs actively raising capital. \nConnecting the Las Vegas Ecosystem for Sports and Longevity \nLas Vegas connects its sports and longevity ecosystems through a symbiotic relationship: professional sports create an economic engine that funds and drives demand for advanced sports medicine and wellness services\, which are growing to support athletes and the general population. The city’s growth as a sports destination is attracting businesses and research institutions focused on health\, performance\, and recovery\, creating a hub for sports science that benefits athletes and the broader community. \nThe Athlete & Investor Networking event is being co-hosted by JouleFit\, Scientic Age Management\, Relax Sauna\, Mind Master\, Marketing Completion Fund\, Longevity Investing Forum\, Longevity Shopping\, Medtech Investing Forum\, and the Sports Investing Forum.Date: December 10\, 2025Time: 5 PM – 9 PM PDTFormat: In-PersonLocation: JouleFit Las Vegas\, NVAgenda Highlights \n\nExperience JouleFit AI & Robotics Training and (HBOT) Hyperbaric Chamber Oxygen Therapy by Scientific Age Management \nShowcase Presentations: AI\, Blockchain\, Consumer Products\, Longevity\, Medtech\, Real Estate\, and Sports Tech\n\nInvestor Access: Explore potential deals through company showcases\, direct access to founders\, and exclusive booth discussions with sector leaders.Why Attend?Access High-Quality Deal Flow – This is where innovation meets investment. From early-stage startups to established companies\, the presenting firms are positioned to drive the future of their industries\, offering you exclusive insight and access.Networking & Deal-Making – Meet like-minded investors\, connect with founders\, and get involved in groundbreaking ventures. The event offers multiple opportunities for one-on-one discussions and sector-focused presentations.For Accredited Investors – Attendance is complimentary for accredited investors.Opportunities to Participate \n\nSponsors\nExhibitors\nVIP Gift Bag \nMarketing / Media Partners\nVolunteers\n\nTickets on Sale \n\n$25 – Industry Professionals / Service Providers\nComplimentary – Athletes\nComplimentary – Accredited Investors\nStartup Founder – Accredited Investors\n\nParticipation Pricing \n\n$1000 – Sponsor – Exhibitor Table Top / 3 Minute Presentation\n$500 – VIP Gift Bag Product and Marketing Material Distribution
URL:https://tech.vegas/event/athlete-investor-networking-ai-longevity-sports/
LOCATION:Joulefit\, 950 South Durango Drive\, #STE 120\, Las Vegas\, NV\, 89145\, United States
CATEGORIES:Featured
ATTACH;FMTTYPE=image/jpeg:https://tech.vegas/wp-content/uploads/2025/12/0f007af60464f3981d2273ffe00e7f56.jpg
END:VEVENT
BEGIN:VEVENT
DTSTART;TZID=America/Los_Angeles:20251212T000000
DTEND;TZID=America/Los_Angeles:20251214T235959
DTSTAMP:20260420T141058
CREATED:20251120T082324Z
LAST-MODIFIED:20251120T082326Z
UID:10006396-1765497600-1765756799@tech.vegas
SUMMARY:Longevity Fest 2025
DESCRIPTION:The Longevity Fest 2025\, hosted by the American Academy of Anti-Aging Medicine (A4M)\, is a major medical and health optimization event taking place in Las Vegas this December. The three-day conference is designed for licensed professionals and focuses on anti-aging medicine\, health span extension\, and cutting-edge longevity research. The agenda includes over 200 sessions and features more than 5\,000 attendees and 400 exhibitors\, with tracks covering topics such as hormone therapies\, brain longevity\, the microbiome\, and metabolic health. The goal of the event is to unveil the future of health and aging\, offering practical\, actionable strategies for practitioners.
URL:https://tech.vegas/event/longevity-fest-2025/
LOCATION:The Venetian Las Vegas\, 3355 S Las Vegas Blvd\, Las Vegas\, NV\, 89109\, United States
CATEGORIES:Featured,Networking
ATTACH;FMTTYPE=image/png:https://tech.vegas/wp-content/uploads/2025/11/image-10-scaled.png
END:VEVENT
BEGIN:VEVENT
DTSTART;TZID=America/Los_Angeles:20251220T080000
DTEND;TZID=America/Los_Angeles:20251220T170000
DTSTAMP:20260420T141058
CREATED:20250515T194733Z
LAST-MODIFIED:20251031T202742Z
UID:10005581-1766217600-1766250000@tech.vegas
SUMMARY:Tech Alley
DESCRIPTION:Tech Alley is a dynamic\, community-driven initiative based in Las Vegas\, dedicated to nurturing the local technology and startup ecosystem. It serves as a vibrant hub where entrepreneurs\, technologists\, and innovators converge to share knowledge\, collaborate\, and bring ideas to fruition. Through a variety of events\, educational workshops\, and mentorship programs\, Tech Alley fosters an inclusive and diverse environment that promotes growth and success in the tech and startup community. Regular meetups Downtown Las Vegas are on the third Saturday of each month. \n\n\n\nBeyond events\, Tech Alley offers avenues for continuous engagement and learning. It features groups focused on various aspects of entrepreneurship and technology\, including design and fundraising\, led by community leaders. Additionally\, Tech Alley provides access to resident experts in fields like cybersecurity\, fundraising\, business law\, SEO\, and blockchain\, offering valuable insights to help navigate the complexities of business and technology. By uniting people and fostering a creative class\, Tech Alley plays a pivotal role in strengthening communities and promoting an innovative technology and startup culture in Las Vegas.
URL:https://tech.vegas/event/tech-alley/2025-12-20/
LOCATION:Taverna Costera\, 1031 S Main St\, Las Vegas\, NV\, 89101\, us
CATEGORIES:Economic Development,Educational,Featured,Networking,Pitch/ Competition,Startups,Technology
ATTACH;FMTTYPE=image/jpeg:https://tech.vegas/wp-content/uploads/2025/05/tech-alley-banner.jpg
GEO:36.159767;-115.15288
X-APPLE-STRUCTURED-LOCATION;VALUE=URI;X-ADDRESS=Taverna Costera 1031 S Main St Las Vegas NV 89101 us;X-APPLE-RADIUS=500;X-TITLE=1031 S Main St:geo:-115.15288,36.159767
END:VEVENT
END:VCALENDAR