BEGIN:VCALENDAR
VERSION:2.0
PRODID:-//Tech.Vegas - ECPv6.15.20//NONSGML v1.0//EN
CALSCALE:GREGORIAN
METHOD:PUBLISH
X-WR-CALNAME:Tech.Vegas
X-ORIGINAL-URL:https://tech.vegas
X-WR-CALDESC:Events for Tech.Vegas
REFRESH-INTERVAL;VALUE=DURATION:PT1H
X-Robots-Tag:noindex
X-PUBLISHED-TTL:PT1H
BEGIN:VTIMEZONE
TZID:America/Los_Angeles
BEGIN:DAYLIGHT
TZOFFSETFROM:-0800
TZOFFSETTO:-0700
TZNAME:PDT
DTSTART:20250309T100000
END:DAYLIGHT
BEGIN:STANDARD
TZOFFSETFROM:-0700
TZOFFSETTO:-0800
TZNAME:PST
DTSTART:20251102T090000
END:STANDARD
BEGIN:DAYLIGHT
TZOFFSETFROM:-0800
TZOFFSETTO:-0700
TZNAME:PDT
DTSTART:20260308T100000
END:DAYLIGHT
BEGIN:STANDARD
TZOFFSETFROM:-0700
TZOFFSETTO:-0800
TZNAME:PST
DTSTART:20261101T090000
END:STANDARD
BEGIN:DAYLIGHT
TZOFFSETFROM:-0800
TZOFFSETTO:-0700
TZNAME:PDT
DTSTART:20270314T100000
END:DAYLIGHT
BEGIN:STANDARD
TZOFFSETFROM:-0700
TZOFFSETTO:-0800
TZNAME:PST
DTSTART:20271107T090000
END:STANDARD
END:VTIMEZONE
BEGIN:VEVENT
DTSTART;TZID=America/Los_Angeles:20260513T170000
DTEND;TZID=America/Los_Angeles:20260513T190000
DTSTAMP:20260420T095750
CREATED:20260410T082916Z
LAST-MODIFIED:20260410T082916Z
UID:10007007-1778691600-1778698800@tech.vegas
SUMMARY:Las Vegas Startups Networking Meetup
DESCRIPTION:We’re moving again — but this time\, we think we got it right.\nLas Vegas Startups has found a much better location\, and beginning in April we’ll be returning to our Wednesday night format — now on the 4th Wednesday of each month.\nI’m excited to announce that we’ve secured a nicer\, more convenient venue with plenty of FREE parking\, a private room\, a great menu\, drink specials\, and room for us to grow to 100+ networkers. Best of all\, with summer coming\, we’ll be meeting inside in the AC. \nOur next networking meetup:\nWednesday\, April 29\, 2026\n6:00 PM – 8:30 PM\nJackpot Bar & Grill\n4485 S Jones Blvd\, Las Vegas\, NV 89103\nCome connect with founders\, entrepreneurs\, business owners\, investors\, side hustlers\, creatives\, and ambitious people from all around Las Vegas.\nWhy come? \n\nGreat networking and new connections\nPrivate room for our group\nGreat food and drink specials\nPlenty of FREE parking\nComfortable indoor location\nStay after and enjoy the gaming with 15 machines\n\nWe believe this new location gives Las Vegas Startups the kind of home base where the community can really grow.\nCheck out the photos — and come see the new spot for yourself.\nOne conversation can lead to your next client\, partner\, investor\, or opportunity.\nHope to see you there. \nCome connect with other entrepreneurs\, creators\, and founders from all types of startups – not just tech! Whether you’re building a product\, launching a service\, bootstrapping a dream\, or just exploring what’s possible in Las Vegas\, this is the place to meet likeminded people and share resources. \nAgenda: \n\nOpen networking\nShort intros (who you are / what you’re building)\nGroup discussion on shared challenges + support\nBrainstorm future topics and frequency\n\nWhat to Expect: \n\nCasual networking with fellow founders\, freelancers\, and startup teams\nOpen mic introductions (optional) to share what you’re working on or looking for\nLight refreshments and a relaxed atmosphere\nPossible featured guest or community update announcements\n\nWho Should Attend: \n\nStartup founders & co-founders\nFreelancers\, consultants\, and creatives\nInvestors\, service providers\, and anyone passionate about innovation\nNewcomers to the Las Vegas startup scene\n\nWhat to bring: \n\nBusiness cards / digital contact info (like QR codes – i.e. My e-Card)\nSomething you’re working on or thinking about\nWillingness to connect\, share\, and support\n\nLet’s build a real startup community in Vegas – together.
URL:https://tech.vegas/event/las-vegas-startups-networking-meetup-18/
LOCATION:Las Vegas\, NV\, https://maps.app.goo.gl/avdwZnJBjDfG5gQi7\, Las Vegas\, NV\, 89101\, US
CATEGORIES:Startups
ATTACH;FMTTYPE=image/jpeg:https://tech.vegas/wp-content/uploads/2026/02/29707_image_highres_532355381.jpeg
ORGANIZER;CN="Las Vegas Startups":MAILTO:LVNVStartup-announce@messages.meetup.com
END:VEVENT
BEGIN:VEVENT
DTSTART;TZID=America/Los_Angeles:20260516T080000
DTEND;TZID=America/Los_Angeles:20260516T170000
DTSTAMP:20260420T095750
CREATED:20250515T194733Z
LAST-MODIFIED:20251031T202742Z
UID:10005586-1778918400-1778950800@tech.vegas
SUMMARY:Tech Alley
DESCRIPTION:Tech Alley is a dynamic\, community-driven initiative based in Las Vegas\, dedicated to nurturing the local technology and startup ecosystem. It serves as a vibrant hub where entrepreneurs\, technologists\, and innovators converge to share knowledge\, collaborate\, and bring ideas to fruition. Through a variety of events\, educational workshops\, and mentorship programs\, Tech Alley fosters an inclusive and diverse environment that promotes growth and success in the tech and startup community. Regular meetups Downtown Las Vegas are on the third Saturday of each month. \n\n\n\nBeyond events\, Tech Alley offers avenues for continuous engagement and learning. It features groups focused on various aspects of entrepreneurship and technology\, including design and fundraising\, led by community leaders. Additionally\, Tech Alley provides access to resident experts in fields like cybersecurity\, fundraising\, business law\, SEO\, and blockchain\, offering valuable insights to help navigate the complexities of business and technology. By uniting people and fostering a creative class\, Tech Alley plays a pivotal role in strengthening communities and promoting an innovative technology and startup culture in Las Vegas.
URL:https://tech.vegas/event/tech-alley/2026-05-16/
LOCATION:Taverna Costera\, 1031 S Main St\, Las Vegas\, NV\, 89101\, us
CATEGORIES:Economic Development,Educational,Featured,Networking,Pitch/ Competition,Startups,Technology
ATTACH;FMTTYPE=image/jpeg:https://tech.vegas/wp-content/uploads/2025/05/tech-alley-banner.jpg
GEO:36.159767;-115.15288
X-APPLE-STRUCTURED-LOCATION;VALUE=URI;X-ADDRESS=Taverna Costera 1031 S Main St Las Vegas NV 89101 us;X-APPLE-RADIUS=500;X-TITLE=1031 S Main St:geo:-115.15288,36.159767
END:VEVENT
BEGIN:VEVENT
DTSTART;TZID=America/Los_Angeles:20260519T170000
DTEND;TZID=America/Los_Angeles:20260519T183000
DTSTAMP:20260420T095750
CREATED:20260227T220104Z
LAST-MODIFIED:20260227T220104Z
UID:10006854-1779210000-1779215400@tech.vegas
SUMMARY:Las Vegas Startups Networking Meetup
DESCRIPTION:🚨 Las Vegas Startups – Date & Location Change (Important Update) – but STILL IN THE ARTS DISTRICT\nAs many of you know\, this is our first meetup relaunch after the group has been dormant for a while\, and I wanted to make sure we start strong.\nOriginally\, we planned for Wednesday — but I wasn’t able to secure a venue that day. Rather than cancel our first event back\, I shifted gears and found a better solution.\n📅 New Date: Tuesday\, February 18\n📍 New Location: Hola Habibi\n1115 S Casino Center Blvd\nDowntown Las Vegas Arts District\nAnd honestly… Tuesday may actually be a better networking day. Midweek momentum\, fewer competing events\, and a strong founder turnout.\nPlus — it’s Taco Tuesday\, so that doesn’t hurt. 🌮\nWe also aligned the timing with the comedy show happening afterward for anyone who wants to make a full evening of it.\nThe vision for this meetup remains the same:\n• High-signal networking\n• 30-second light pitches (no hard selling)\n• One focused 15-minute startup how-to\n• Real conversations with founders\, builders\, and operators\nSince this is our reboot event\, I’d rather adjust and do it right than cancel and lose momentum.\nPlease check the updated event details and re-confirm your RSVP if needed.\nLet’s rebuild Vegas startup energy the right way.\n— Michael \nCome connect with other entrepreneurs\, creators\, and founders from all types of startups – not just tech! Whether you’re building a product\, launching a service\, bootstrapping a dream\, or just exploring what’s possible in Las Vegas\, this is the place to meet likeminded people and share resources. \nThis first meetup is set to happen\, and I’m looking for collaborators to help bring it to life. If you have ideas for locations\, topics\, or just want to help shape the format\, I’d love your input! \nAgenda: \n\nOpen networking\nShort intros (who you are / what you’re building)\nGroup discussion on shared challenges + support\nBrainstorm future topics and frequency\nOptional Open Mic Comedy Show starting @ 8:00 PM following the networking event.\n\nWhat to Expect: \n\nCasual networking with fellow founders\, freelancers\, and startup teams\nOpen mic introductions (optional) to share what you’re working on or looking for\nLight refreshments and a relaxed atmosphere\nPossible featured guest or community update announcements\n\nWho Should Attend: \n\nStartup founders & co-founders\nFreelancers\, consultants\, and creatives\nInvestors\, service providers\, and anyone passionate about innovation\nNewcomers to the Las Vegas startup scene\n\n📍 New Location: Hola Habibi\n1115 S Casino Center Blvd\nDowntown Las Vegas Arts District \nWhat to bring: \n\nBusiness cards / digital contact info (like QR codes – i.e. My e-Card)\nSomething you’re working on or thinking about\nWillingness to connect\, share\, and support\n\nLet’s build a real startup community in Vegas – together.
URL:https://tech.vegas/event/las-vegas-startups-networking-meetup-3/
LOCATION:Hola Habibi\, 1115 S Casino Center Blvd\, Las Vegas\, NV\, 89104\, US
CATEGORIES:Startups
ATTACH;FMTTYPE=image/jpeg:https://tech.vegas/wp-content/uploads/2026/02/29707_image_highres_532355381.jpeg
ORGANIZER;CN="Las Vegas Startups":MAILTO:LVNVStartup-announce@messages.meetup.com
END:VEVENT
BEGIN:VEVENT
DTSTART;TZID=America/Los_Angeles:20260519T180000
DTEND;TZID=America/Los_Angeles:20260519T200000
DTSTAMP:20260420T095750
CREATED:20250122T171332Z
LAST-MODIFIED:20250122T171332Z
UID:10005074-1779213600-1779220800@tech.vegas
SUMMARY:Monthly Meetup @ Corporate Coworking
DESCRIPTION:Join our Discord by clicking [here](https://discord.gg/RGFGV8gKxB) – https://discord.gg/RGFGV8gKxB \nOur monthly Vegas Programmers group meets at 6pm on the 3rd Tuesday of every month at Corporate Coworking. All levels of experience are welcome. We love to share knowledge and talk about the latest in programming\, AI\, mobile app development\, and more. Every month we have a technical talk presented by members of the group. If you have a talk you’d like to share\, email me Josh@RemoteDevForce.com \nSpeakers and topics are TBD. \nRSVP now as seating is limited. \nWe upload talks to our YouTube channel a few days after the meetup. https://www.youtube.com/channel/UCVAynQyhWbBoc-pBhOuSTrg \nWe are looking for sponsors\, speakers\, freelance developers\, and businesses looking to hire talent. Contact me at Josh@RemoteDevForce.com for more information. \nThanks for joining our group! \n-Joshua Copeland\n@OGProgrammer \n**~~~SPONSORS~~~** \n**CorporateCowork.com – a co-working community**\nChoose from either of the free 1 time options below:\nDay pass: \n* Includes 9am-5pm access of our coworking office\n* Desk with wide screen monitor\n* Cold brew tap and micro brew coffee\n* Privacy booths\n* Creative common areas and more \nEvent Space: \n* Pick one of our 4 event spaces options from a training room to an event space with a bar or kitchen. \nContact Tony at tkerrnaja@corporatecowork.com for more information. \n**JetBrains** – They make the best IDEs in the business.\nWe give out a free 1 year JetBrains license at every meetup.
URL:https://tech.vegas/event/monthly-meetup-corporate-coworking-26/
LOCATION:Corporate Coworking Las Vegas\, 5725 S Valley View Blvd UNIT 7\, Las Vegas\, NV\, 89118\, us
CATEGORIES:Startups
ATTACH;FMTTYPE=image/jpeg:https://tech.vegas/wp-content/uploads/2025/01/1024x576-8JmEKq.tmp_.jpg
END:VEVENT
END:VCALENDAR