BEGIN:VCALENDAR
VERSION:2.0
PRODID:-//Tech.Vegas - ECPv6.15.20//NONSGML v1.0//EN
CALSCALE:GREGORIAN
METHOD:PUBLISH
X-ORIGINAL-URL:https://tech.vegas
X-WR-CALDESC:Events for Tech.Vegas
REFRESH-INTERVAL;VALUE=DURATION:PT1H
X-Robots-Tag:noindex
X-PUBLISHED-TTL:PT1H
BEGIN:VTIMEZONE
TZID:America/Los_Angeles
BEGIN:DAYLIGHT
TZOFFSETFROM:-0800
TZOFFSETTO:-0700
TZNAME:PDT
DTSTART:20240310T100000
END:DAYLIGHT
BEGIN:STANDARD
TZOFFSETFROM:-0700
TZOFFSETTO:-0800
TZNAME:PST
DTSTART:20241103T090000
END:STANDARD
BEGIN:DAYLIGHT
TZOFFSETFROM:-0800
TZOFFSETTO:-0700
TZNAME:PDT
DTSTART:20250309T100000
END:DAYLIGHT
BEGIN:STANDARD
TZOFFSETFROM:-0700
TZOFFSETTO:-0800
TZNAME:PST
DTSTART:20251102T090000
END:STANDARD
BEGIN:DAYLIGHT
TZOFFSETFROM:-0800
TZOFFSETTO:-0700
TZNAME:PDT
DTSTART:20260308T100000
END:DAYLIGHT
BEGIN:STANDARD
TZOFFSETFROM:-0700
TZOFFSETTO:-0800
TZNAME:PST
DTSTART:20261101T090000
END:STANDARD
END:VTIMEZONE
BEGIN:VEVENT
DTSTART;TZID=America/Los_Angeles:20251211T100000
DTEND;TZID=America/Los_Angeles:20251211T210000
DTSTAMP:20260423T025738
CREATED:20250804T183659Z
LAST-MODIFIED:20250804T183659Z
UID:10006041-1765447200-1765486800@tech.vegas
SUMMARY:Sports Investing Forum Las Vegas
DESCRIPTION:This 1-Day Investor conference will bring together industry leaders\, innovators\, investors\, and global investing opportunities.\n\n\nSports Investing Forum Las Vegas \nDecember 11\, 2025 | Las Vegas\, NV \nConnecting Visionary Investors with Next-Gen Opportunities \nJoin 500+ investors for an exclusive\, one-day gathering showcasing cutting-edge investment opportunities across sectors like AI\, Blockchain\, Consumer Products\, Hospitality\, Longevity\, Medtech\, Real Estate\, Sports & Tech. \nThis event is designed to connect accredited investors\, venture capitalists\, private equity firms\, family offices\, and other high-net-worth individuals with a curated lineup of presenting companies and entrepreneurs actively raising capital. \nEvent Details \nThe Sports Investing Forum will be held during the Las Vegas Investor Conference\, a 1 – Day in person and live webinar conference co-hosted by the Global Capital Network\, Investor Conference News\, Longevity Investing Forum\, Longevity Shopping\, Medtech Investing Forum\, Marketing Completion Fund\, and Mission Matters. \nDate: December 11\, 2024 \nTime: 10 AM – 9 PM PDT \nFormat: In-Person & Virtual Webinar \nLocation: Las Vegas\, NV \nAgenda Highlights \n\nMorning Sessions In Person\n(10 AM – 12 PM): Registration\, Breakfast\, Private Investor Networking​\nSector-Specific Showcases:\n10 AM – 12 PM: Virtual Webinar Only – All Industries\n12 PM – 9 PM: AI\, Blockchain\, Consumer Products\, Longevity\, Medtech\, Real Estate\, and Sports Tech\n\nInvestor Access:  \nExplore potential deals through company showcases\, direct access to founders\, and exclusive booth discussions with sector leaders. \nWhy Attend? \nAccess High-Quality Deal Flow – This is where innovation meets investment. From early-stage startups to established companies\, the presenting firms are positioned to drive the future of their industries\, offering you exclusive insight and access. \nNetworking & Deal-Making – Meet like-minded investors\, connect with founders\, and get involved in groundbreaking ventures. The event offers multiple opportunities for one-on-one discussions and sector-focused presentations. \nFor Accredited Investors Only – Attendance is complimentary for verified accredited investors\, with limited availability to ensure an intimate\, high-impact experience. \nOpportunities to Participate – Click Link \n\nSpeakers\nPresenting Companies Raising Capital\nInvestor Judges\nSponsors\nExhibitors\nVIP Gift Bag Product and Marketing Material Distribution\nMarketing / Media Partners\nVolunteers\n\nTickets on Sale \n\n$399 – VIP Conference Ticket – Includes Conference / Exhibitors / Meals / 1 VIP Gift Bag / VIP Party\n$349 – General Admission – Includes Conference / Exhibitors / Meals / VIP Party\n$249 – Health Practitioners – Includes Conference / Exhibitors / Meals\n$199 – Accredited Investors – Includes Conference / Exhibitors / Meals\n​Free Zoom Webinar Registration – Click Link\n\nParticipation Pricing \n\n$15000 – Event Sponsor / Speaker / Panel / Presenting Company Raising Capital – 25 Minutes / Exhibitor Table / VIP Gift Bag Distribution / Event Signage / Edited Video / Article / Podcast Interview / 200 Investor Leads\n$10000 – Speaker / Panel / Presenting Company Raising Capital – 20 Minutes / Exhibitor Table / VIP Gift Bag Distribution / Edited Video / Article / Podcast Interview / 100 Investor Leads\n$5000 – Speaker / Panel / Presenting Company Raising Capital – 18 Minutes / Exhibitor Table / VIP Gift Bag Distribution / Edited Video / Article / Podcast Interview / 50 Investor Leads\n$3500 – Speaker / Panel / Presenting Company Raising Capital – 12 Minutes / Exhibitor Table / VIP Gift Bag Distribution / Article / Podcast Interview\n$1500 – StartUp Fast Pitch Competition to Investor Judges – 5 Minute / Exhibitor Table\n$1500 – Exhibitor Table\n$1000 – VIP Gift Bag Product and Marketing Material Distribution – 200 Items\n$1000 – Edited Speaker Video\n$500 – Podcast Interview
URL:https://tech.vegas/event/sports-investing-forum-las-vegas/
LOCATION:Stirling Club\, 2827 Paradise Road\, Las Vegas\, NV\, 89109\, United States
CATEGORIES:Sports & Esports
ATTACH;FMTTYPE=image/jpeg:https://tech.vegas/wp-content/uploads/2025/08/0ff95f6d076dc24568c060d723a834c7.jpg
END:VEVENT
END:VCALENDAR