BEGIN:VCALENDAR
VERSION:2.0
PRODID:-//Tech.Vegas - ECPv6.15.20//NONSGML v1.0//EN
CALSCALE:GREGORIAN
METHOD:PUBLISH
X-ORIGINAL-URL:https://tech.vegas
X-WR-CALDESC:Events for Tech.Vegas
REFRESH-INTERVAL;VALUE=DURATION:PT1H
X-Robots-Tag:noindex
X-PUBLISHED-TTL:PT1H
BEGIN:VTIMEZONE
TZID:America/Los_Angeles
BEGIN:DAYLIGHT
TZOFFSETFROM:-0800
TZOFFSETTO:-0700
TZNAME:PDT
DTSTART:20240310T100000
END:DAYLIGHT
BEGIN:STANDARD
TZOFFSETFROM:-0700
TZOFFSETTO:-0800
TZNAME:PST
DTSTART:20241103T090000
END:STANDARD
BEGIN:DAYLIGHT
TZOFFSETFROM:-0800
TZOFFSETTO:-0700
TZNAME:PDT
DTSTART:20250309T100000
END:DAYLIGHT
BEGIN:STANDARD
TZOFFSETFROM:-0700
TZOFFSETTO:-0800
TZNAME:PST
DTSTART:20251102T090000
END:STANDARD
BEGIN:DAYLIGHT
TZOFFSETFROM:-0800
TZOFFSETTO:-0700
TZNAME:PDT
DTSTART:20260308T100000
END:DAYLIGHT
BEGIN:STANDARD
TZOFFSETFROM:-0700
TZOFFSETTO:-0800
TZNAME:PST
DTSTART:20261101T090000
END:STANDARD
BEGIN:DAYLIGHT
TZOFFSETFROM:-0800
TZOFFSETTO:-0700
TZNAME:PDT
DTSTART:20270314T100000
END:DAYLIGHT
BEGIN:STANDARD
TZOFFSETFROM:-0700
TZOFFSETTO:-0800
TZNAME:PST
DTSTART:20271107T090000
END:STANDARD
END:VTIMEZONE
BEGIN:VEVENT
DTSTART;TZID=America/Los_Angeles:20260417T110000
DTEND;TZID=America/Los_Angeles:20260417T130000
DTSTAMP:20260420T100123
CREATED:20260414T173440Z
LAST-MODIFIED:20260414T173442Z
UID:10007025-1776423600-1776430800@tech.vegas
SUMMARY:Healthcare Symposium: Women in Power Shaping Healthcare Transformation
DESCRIPTION:
URL:https://tech.vegas/event/healthcare-symposium-women-in-power-shaping-healthcare-transformation/
LOCATION:Suncoast Resort & Casino\, 9090 Alta Dr. Las Vegas\, NV 89145
CATEGORIES:Featured,Networking,Science & Medicine
ATTACH;FMTTYPE=image/png:https://tech.vegas/wp-content/uploads/2026/04/image-7.png
END:VEVENT
BEGIN:VEVENT
DTSTART;TZID=America/Los_Angeles:20260212T170000
DTEND;TZID=America/Los_Angeles:20260212T190000
DTSTAMP:20260420T100123
CREATED:20251229T205151Z
LAST-MODIFIED:20251229T205203Z
UID:10006532-1770915600-1770922800@tech.vegas
SUMMARY:BioTech Vegas Quarterly General Member Meeting
DESCRIPTION:
URL:https://tech.vegas/event/biotech-vegas-quarterly-general-member-meeting/
LOCATION:Roseman University Summerlin Campus\, One Breakthrough Way\, W Twain Ave\,\, Las Vegas\, Nevada\, 89147\, United States
CATEGORIES:Networking,Science & Medicine
ATTACH;FMTTYPE=image/png:https://tech.vegas/wp-content/uploads/2025/12/image-7.png
END:VEVENT
BEGIN:VEVENT
DTSTART;TZID=America/Los_Angeles:20260123T110000
DTEND;TZID=America/Los_Angeles:20260123T120000
DTSTAMP:20260420T100123
CREATED:20251005T041409Z
LAST-MODIFIED:20251005T041409Z
UID:10006282-1769166000-1769169600@tech.vegas
SUMMARY:"Space or Dream of Life" 3D Music Show at CSN Planetarium
DESCRIPTION:Experience Award Winning  3 Dimensional Electronic Music and Cosmic Video Art at CSN Las Vegas Planetarium by Alexander Golberg Jero
URL:https://tech.vegas/event/space-or-dream-of-life-3d-music-show-at-csn-planetarium/
LOCATION:CSN Planetarium\, 3200 East Cheyenne Avenue\, North Las Vegas\, NV\, 89030\, United States
CATEGORIES:Science & Medicine
ATTACH;FMTTYPE=image/jpeg:https://tech.vegas/wp-content/uploads/2025/10/82d052614934cf62bcd94de7aa831008.jpg
END:VEVENT
BEGIN:VEVENT
DTSTART;TZID=America/Los_Angeles:20251113T170000
DTEND;TZID=America/Los_Angeles:20251113T190000
DTSTAMP:20260420T100123
CREATED:20251107T081128Z
LAST-MODIFIED:20251107T230352Z
UID:10006366-1763053200-1763060400@tech.vegas
SUMMARY:Sports Medicine Coalition
DESCRIPTION:The Sports Medicine Coalition is an event hosted by Las Vegas HEALS (Health\, Education\, Advocacy\, and Leadership in Southern Nevada)\, a nonprofit organization focused on fostering alliances within the local healthcare community. The coalition meeting is scheduled to take place on Thursday\, November 13\, 2025\, from 5:00 PM to 7:00 PM. While the topic is sports medicine\, the event is listed on the calendar as a general coalition meeting\, and the format is not explicitly detailed but it’s likely a professional networking and task force gathering. The search results do not specify a physical venue for this particular meeting.
URL:https://tech.vegas/event/sports-medicine-coalition/
LOCATION:8400 W Sunset Rd #300\, Las Vegas NV 89113-2283\, 8400 W Sunset Rd #300\, Las Vegas NV 89113-2283
CATEGORIES:Featured,Las Vegas Business,Networking,Science & Medicine,Sports & Esports
ATTACH;FMTTYPE=image/png:https://tech.vegas/wp-content/uploads/2025/11/image.png
END:VEVENT
BEGIN:VEVENT
DTSTART;TZID=America/Los_Angeles:20251019T000000
DTEND;TZID=America/Los_Angeles:20251022T235959
DTSTAMP:20260420T100123
CREATED:20250727T112519Z
LAST-MODIFIED:20251010T125807Z
UID:10006000-1760832000-1761177599@tech.vegas
SUMMARY:HLTH USA 2025
DESCRIPTION:Why AttendHLTH is designed to foster meaningful connections\, breakthrough insights\, and tangible partnerships. It’s the go-to destination for leaders driving the future of healthcare innovation and transformation  \n\n\n\nScale & AudienceExpect over 12\,000 influential leaders and executives from across payers\, providers\, pharma/life sciences\, employers\, tech startups\, government\, media\, and patient advocacy groups HLTH+3HLTH+3hitrustalliance.net+3. Notably\, 44% are C-suite executives\, with significant participation across VPs and Directors HLTH+2HLTH+2HLTH+2. \n\n\n\nEvent Themes & Focus AreasHLTH’s 2025 program revolves around timely and transformational sectors\, including: \n\n\n\nAI & emerging tech in healthcare delivery \n\n\n\nDigital diagnostics and big-data solutions \n\n\n\nEmployer and workforce health innovations \n\n\n\nFood-as-medicine initiatives \n\n\n\nPatient voice & health equity \n\n\n\nSpecialty tracks such as women’s health\, substance use\, and oral health \n\n\n\nPharma\, life sciences\, global collaboration Personify  \n\n\n\nProgramming & NetworkingThe conference includes inspiring keynotes\, expert panels\, and deep-dive summits\, along with curated networking formats like pitch competitions and startup showcases. Specialized matchmaking programs—such as Market Connect and Investor Connect—organize double opt‑in 1:1 meetings between decision-makers and solution providers.
URL:https://tech.vegas/event/hlth-usa-2025/
LOCATION:The Venetian Expo\, 201 Sands Ave\, Las Vegas\, NV 89169\, United States
CATEGORIES:Featured,Science & Medicine
ATTACH;FMTTYPE=image/png:https://tech.vegas/wp-content/uploads/2025/07/image-19.png
END:VEVENT
END:VCALENDAR