BEGIN:VCALENDAR
VERSION:2.0
PRODID:-//Tech.Vegas - ECPv6.15.20//NONSGML v1.0//EN
CALSCALE:GREGORIAN
METHOD:PUBLISH
X-ORIGINAL-URL:https://tech.vegas
X-WR-CALDESC:Events for Tech.Vegas
REFRESH-INTERVAL;VALUE=DURATION:PT1H
X-Robots-Tag:noindex
X-PUBLISHED-TTL:PT1H
BEGIN:VTIMEZONE
TZID:America/Los_Angeles
BEGIN:DAYLIGHT
TZOFFSETFROM:-0800
TZOFFSETTO:-0700
TZNAME:PDT
DTSTART:20250309T100000
END:DAYLIGHT
BEGIN:STANDARD
TZOFFSETFROM:-0700
TZOFFSETTO:-0800
TZNAME:PST
DTSTART:20251102T090000
END:STANDARD
BEGIN:DAYLIGHT
TZOFFSETFROM:-0800
TZOFFSETTO:-0700
TZNAME:PDT
DTSTART:20260308T100000
END:DAYLIGHT
BEGIN:STANDARD
TZOFFSETFROM:-0700
TZOFFSETTO:-0800
TZNAME:PST
DTSTART:20261101T090000
END:STANDARD
BEGIN:DAYLIGHT
TZOFFSETFROM:-0800
TZOFFSETTO:-0700
TZNAME:PDT
DTSTART:20270314T100000
END:DAYLIGHT
BEGIN:STANDARD
TZOFFSETFROM:-0700
TZOFFSETTO:-0800
TZNAME:PST
DTSTART:20271107T090000
END:STANDARD
END:VTIMEZONE
BEGIN:VEVENT
DTSTART;TZID=America/Los_Angeles:20260212T170000
DTEND;TZID=America/Los_Angeles:20260212T190000
DTSTAMP:20260420T163630
CREATED:20251229T205151Z
LAST-MODIFIED:20251229T205203Z
UID:10006532-1770915600-1770922800@tech.vegas
SUMMARY:BioTech Vegas Quarterly General Member Meeting
DESCRIPTION:
URL:https://tech.vegas/event/biotech-vegas-quarterly-general-member-meeting/
LOCATION:Roseman University Summerlin Campus\, One Breakthrough Way\, W Twain Ave\,\, Las Vegas\, Nevada\, 89147\, United States
CATEGORIES:Networking,Science & Medicine
ATTACH;FMTTYPE=image/png:https://tech.vegas/wp-content/uploads/2025/12/image-7.png
END:VEVENT
END:VCALENDAR