BEGIN:VCALENDAR
VERSION:2.0
PRODID:-//Tech.Vegas - ECPv6.15.20//NONSGML v1.0//EN
CALSCALE:GREGORIAN
METHOD:PUBLISH
X-WR-CALNAME:Tech.Vegas
X-ORIGINAL-URL:https://tech.vegas
X-WR-CALDESC:Events for Tech.Vegas
REFRESH-INTERVAL;VALUE=DURATION:PT1H
X-Robots-Tag:noindex
X-PUBLISHED-TTL:PT1H
BEGIN:VTIMEZONE
TZID:America/Los_Angeles
BEGIN:DAYLIGHT
TZOFFSETFROM:-0800
TZOFFSETTO:-0700
TZNAME:PDT
DTSTART:20240310T100000
END:DAYLIGHT
BEGIN:STANDARD
TZOFFSETFROM:-0700
TZOFFSETTO:-0800
TZNAME:PST
DTSTART:20241103T090000
END:STANDARD
BEGIN:DAYLIGHT
TZOFFSETFROM:-0800
TZOFFSETTO:-0700
TZNAME:PDT
DTSTART:20250309T100000
END:DAYLIGHT
BEGIN:STANDARD
TZOFFSETFROM:-0700
TZOFFSETTO:-0800
TZNAME:PST
DTSTART:20251102T090000
END:STANDARD
BEGIN:DAYLIGHT
TZOFFSETFROM:-0800
TZOFFSETTO:-0700
TZNAME:PDT
DTSTART:20260308T100000
END:DAYLIGHT
BEGIN:STANDARD
TZOFFSETFROM:-0700
TZOFFSETTO:-0800
TZNAME:PST
DTSTART:20261101T090000
END:STANDARD
END:VTIMEZONE
BEGIN:VEVENT
DTSTART;TZID=America/Los_Angeles:20251105T080000
DTEND;TZID=America/Los_Angeles:20251106T140000
DTSTAMP:20260420T113900
CREATED:20250909T101458Z
LAST-MODIFIED:20251031T084630Z
UID:10006207-1762329600-1762437600@tech.vegas
SUMMARY:Disasters Expo USA
DESCRIPTION:The leading event mitigating the consequences of the world’s most costly disasters.\n\n\nIn its 4th year\, Disasters Expo USA brings its national series to Houston this November. \nA key event for disaster preparedness\, response\, and recovery\, Disasters Expo USA brings together industry leaders\, government agencies\, and professionals committed to addressing the challenges of disasters. \nWith a focus on innovation\, networking\, and education\, the event serves as a vital platform for showcasing cutting-edge solutions and technologies that drive resilience and recovery efforts across the country. \nhttps://www.disasterexpotexas.com/?utm_source=MEventbrite
URL:https://tech.vegas/event/disasters-expo-usa-3/
LOCATION:George R. Brown Convention Center\, 1001 Avenida De Las Americas\, Houston\, TX\, 77010\, United States
CATEGORIES:Business
ATTACH;FMTTYPE=image/jpeg:https://tech.vegas/wp-content/uploads/2025/09/9563efc0cc24d2910386a7ae53bb3a08.jpg
END:VEVENT
BEGIN:VEVENT
DTSTART;TZID=America/Los_Angeles:20251103T000000
DTEND;TZID=America/Los_Angeles:20251105T235959
DTSTAMP:20260420T113900
CREATED:20251010T073945Z
LAST-MODIFIED:20251010T073946Z
UID:10006306-1762128000-1762387199@tech.vegas
SUMMARY:2025 Annual R3 Conference and Innovation Expo
DESCRIPTION:Join us in Las Vegas for the Annual Conference of the National Association of Energy Service Companies!Annually\, NAESCO gathers leaders and experts within the energy service company industry for a multi-day event to network and learn about new policies\, strategies\, and technologies that are shaping the industry. In-depth sessions cover the current and future landscape of the industry\, and 60+ exhibitors showcase advanced technologies and solutions that deliver measurable results in ESCO projects. \n\n\n\nR3 draws a diverse audience\, including energy service companies\, energy efficiency contractors\, financiers\, state/local/federal government representatives\, law firms\, and consultants. Attendees can look forward to engaging networking events and an awards ceremony recognizing exemplary projects from member companies that show the full potential of public-private partnerships. \n\n\n\nThe event is open to members and non-members.
URL:https://tech.vegas/event/2025-annual-r3-conference-and-innovation-expo/
LOCATION:NV
CATEGORIES:Business,Business to Business,Convention & Expo,Featured,Networking
ATTACH;FMTTYPE=image/png:https://tech.vegas/wp-content/uploads/2025/10/image-15.png
END:VEVENT
END:VCALENDAR