BEGIN:VCALENDAR
VERSION:2.0
PRODID:-//Tech.Vegas - ECPv6.15.20//NONSGML v1.0//EN
CALSCALE:GREGORIAN
METHOD:PUBLISH
X-WR-CALNAME:Tech.Vegas
X-ORIGINAL-URL:https://tech.vegas
X-WR-CALDESC:Events for Tech.Vegas
REFRESH-INTERVAL;VALUE=DURATION:PT1H
X-Robots-Tag:noindex
X-PUBLISHED-TTL:PT1H
BEGIN:VTIMEZONE
TZID:America/Los_Angeles
BEGIN:DAYLIGHT
TZOFFSETFROM:-0800
TZOFFSETTO:-0700
TZNAME:PDT
DTSTART:20250309T100000
END:DAYLIGHT
BEGIN:STANDARD
TZOFFSETFROM:-0700
TZOFFSETTO:-0800
TZNAME:PST
DTSTART:20251102T090000
END:STANDARD
BEGIN:DAYLIGHT
TZOFFSETFROM:-0800
TZOFFSETTO:-0700
TZNAME:PDT
DTSTART:20260308T100000
END:DAYLIGHT
BEGIN:STANDARD
TZOFFSETFROM:-0700
TZOFFSETTO:-0800
TZNAME:PST
DTSTART:20261101T090000
END:STANDARD
BEGIN:DAYLIGHT
TZOFFSETFROM:-0800
TZOFFSETTO:-0700
TZNAME:PDT
DTSTART:20270314T100000
END:DAYLIGHT
BEGIN:STANDARD
TZOFFSETFROM:-0700
TZOFFSETTO:-0800
TZNAME:PST
DTSTART:20271107T090000
END:STANDARD
END:VTIMEZONE
BEGIN:VEVENT
DTSTART;TZID=America/Los_Angeles:20260407T000000
DTEND;TZID=America/Los_Angeles:20260409T235900
DTSTAMP:20260424T150523
CREATED:20250803T145128Z
LAST-MODIFIED:20250803T145130Z
UID:10006036-1775520000-1775779140@tech.vegas
SUMMARY:CXO 2.0 Conference
DESCRIPTION:Join the CXO 2.0 Conference for a dynamic gathering of global business leaders from Tuesday\, March 4 through Thursday\, March 6\, 2025\, at the Luxor Hotel & Casino in Las Vegas\, USA. This three‑day summit blends immersive keynotes\, panel discussions\, and thought‑leadership sessions on topics such as inclusive leadership\, emotional intelligence\, Gen Z ROI\, AI‑driven autonomy\, and succession strategy. With over 50 speakers\, robust networking opportunities\, recognition sessions\, and exhibitors showcasing cutting‑edge innovations\, this conference empowers CEOs\, CXOs\, board members\, consultants\, and startups to hone growth strategies\, foster impactful collaborations\, and drive future‑focused leadership. Whether you seek to break barriers or refine boardroom influence\, this summit offers a strategic forum to elevate your enterprise and shape tomorrow’s business landscape. the2conf.com+12startupnews.fyi+12linkedin.com+12
URL:https://tech.vegas/event/cxo-2-0-conference/
LOCATION:Bellagio Hotel & Casino\, 3600 South Las Vegas Boulevard\, Las Vegas\, NV\, 89109\, United States
CATEGORIES:Convention
ATTACH;FMTTYPE=image/png:https://tech.vegas/wp-content/uploads/2025/08/image.png
END:VEVENT
END:VCALENDAR