BEGIN:VCALENDAR
VERSION:2.0
PRODID:-//Tech.Vegas - ECPv6.15.20//NONSGML v1.0//EN
CALSCALE:GREGORIAN
METHOD:PUBLISH
X-ORIGINAL-URL:https://tech.vegas
X-WR-CALDESC:Events for Tech.Vegas
REFRESH-INTERVAL;VALUE=DURATION:PT1H
X-Robots-Tag:noindex
X-PUBLISHED-TTL:PT1H
BEGIN:VTIMEZONE
TZID:America/Los_Angeles
BEGIN:DAYLIGHT
TZOFFSETFROM:-0800
TZOFFSETTO:-0700
TZNAME:PDT
DTSTART:20250309T100000
END:DAYLIGHT
BEGIN:STANDARD
TZOFFSETFROM:-0700
TZOFFSETTO:-0800
TZNAME:PST
DTSTART:20251102T090000
END:STANDARD
BEGIN:DAYLIGHT
TZOFFSETFROM:-0800
TZOFFSETTO:-0700
TZNAME:PDT
DTSTART:20260308T100000
END:DAYLIGHT
BEGIN:STANDARD
TZOFFSETFROM:-0700
TZOFFSETTO:-0800
TZNAME:PST
DTSTART:20261101T090000
END:STANDARD
BEGIN:DAYLIGHT
TZOFFSETFROM:-0800
TZOFFSETTO:-0700
TZNAME:PDT
DTSTART:20270314T100000
END:DAYLIGHT
BEGIN:STANDARD
TZOFFSETFROM:-0700
TZOFFSETTO:-0800
TZNAME:PST
DTSTART:20271107T090000
END:STANDARD
END:VTIMEZONE
BEGIN:VEVENT
DTSTART;TZID=America/Los_Angeles:20260119T000000
DTEND;TZID=America/Los_Angeles:20260122T000000
DTSTAMP:20260424T194036
CREATED:20260116T182051Z
LAST-MODIFIED:20260116T184648Z
UID:10006634-1768780800-1769040000@tech.vegas
SUMMARY:WORLD OF CONCRETE - WOC
DESCRIPTION:WELCOME TO WORLD OF CONCRETE – OVER 50 YEARS OF SERVICE TO THE CONCRETE AND MASONRY INDUSTRIES! \n\n\n\nWOC is the industry’s ONLY annual international tradeshow dedicated to the commercial concrete and masonry construction industries\, and takes place at the Las Vegas Convention Center\, 3150 Paradise Rd\, Las Vegas\, NV 89109. \n\n\n\n We connect and educate buyers and sellers  throughout the year. Our goal is to provide this important community with the connections\, intelligence\, and opportunities that help customers grow\, do business\, and make informed business decisions.
URL:https://tech.vegas/event/world-of-concrete-woc/
LOCATION:Las Vegas Convention Center\, 3150 Paradise Rd\, Las Vegas\, NV 89109\, United States
CATEGORIES:Convention,Educational,Featured
ATTACH;FMTTYPE=image/png:https://tech.vegas/wp-content/uploads/2026/01/10074-pvlh2Z.png
END:VEVENT
END:VCALENDAR