BEGIN:VCALENDAR
VERSION:2.0
PRODID:-//Tech.Vegas - ECPv6.15.20//NONSGML v1.0//EN
CALSCALE:GREGORIAN
METHOD:PUBLISH
X-WR-CALNAME:Tech.Vegas
X-ORIGINAL-URL:https://tech.vegas
X-WR-CALDESC:Events for Tech.Vegas
REFRESH-INTERVAL;VALUE=DURATION:PT1H
X-Robots-Tag:noindex
X-PUBLISHED-TTL:PT1H
BEGIN:VTIMEZONE
TZID:America/Los_Angeles
BEGIN:DAYLIGHT
TZOFFSETFROM:-0800
TZOFFSETTO:-0700
TZNAME:PDT
DTSTART:20250309T100000
END:DAYLIGHT
BEGIN:STANDARD
TZOFFSETFROM:-0700
TZOFFSETTO:-0800
TZNAME:PST
DTSTART:20251102T090000
END:STANDARD
BEGIN:DAYLIGHT
TZOFFSETFROM:-0800
TZOFFSETTO:-0700
TZNAME:PDT
DTSTART:20260308T100000
END:DAYLIGHT
BEGIN:STANDARD
TZOFFSETFROM:-0700
TZOFFSETTO:-0800
TZNAME:PST
DTSTART:20261101T090000
END:STANDARD
BEGIN:DAYLIGHT
TZOFFSETFROM:-0800
TZOFFSETTO:-0700
TZNAME:PDT
DTSTART:20270314T100000
END:DAYLIGHT
BEGIN:STANDARD
TZOFFSETFROM:-0700
TZOFFSETTO:-0800
TZNAME:PST
DTSTART:20271107T090000
END:STANDARD
END:VTIMEZONE
BEGIN:VEVENT
DTSTART;TZID=America/Los_Angeles:20260108T200000
DTEND;TZID=America/Los_Angeles:20260108T213000
DTSTAMP:20260422T091041
CREATED:20251021T154805Z
LAST-MODIFIED:20251021T154805Z
UID:10006336-1767902400-1767907800@tech.vegas
SUMMARY:Tech Single's Lifestyle Event During CES
DESCRIPTION:Looking to connect after a day of tech talk? CES might be all about gadgets but what about chemistry? Join us for a night to remember…\n\n\nTech Single’s Lifestyle Event During CES \nLooking to connect after a day of tech talk? CES might be all about gadgets but what about chemistry? Join us for a night that’s less about circuits and more about sparks flying. \n \nThis isn’t your average networking event. Whether you’re a startup wizard a coding genius or just someone ready to let loose after the show floor closes this is your chance to mix mingle and maybe discover a connection that’s electric. \nExpect: \n\nCocktails and Chemistry: the 3535 at the LINQ is one of the top bars to loosen those inhibitions and kick-start the night.\nA Sexy Vibe Without the Pressure: This is your space to be bold make eye contact and have fun—whatever that looks like for you.\n\n \nNo sales pitches no awkward elevator speeches. Just you the city’s hottest crowd and a room full of potential connections you didn’t know you needed. Who knows? Your best afterparty might start right here.
URL:https://tech.vegas/event/tech-singles-lifestyle-event-during-ces/
LOCATION:3535 Cocktail Bar The LINQ Hotel + Experience\, 3535 Las Vegas Boulevard South\, Las Vegas\, NV\, 89109\, United States
CATEGORIES:Community
ATTACH;FMTTYPE=image/jpeg:https://tech.vegas/wp-content/uploads/2025/10/030a577a91968d7579dbd85040bda041.jpg
END:VEVENT
END:VCALENDAR