BEGIN:VCALENDAR
VERSION:2.0
PRODID:-//Tech.Vegas - ECPv6.15.20//NONSGML v1.0//EN
CALSCALE:GREGORIAN
METHOD:PUBLISH
X-ORIGINAL-URL:https://tech.vegas
X-WR-CALDESC:Events for Tech.Vegas
REFRESH-INTERVAL;VALUE=DURATION:PT1H
X-Robots-Tag:noindex
X-PUBLISHED-TTL:PT1H
BEGIN:VTIMEZONE
TZID:America/Los_Angeles
BEGIN:DAYLIGHT
TZOFFSETFROM:-0800
TZOFFSETTO:-0700
TZNAME:PDT
DTSTART:20250309T100000
END:DAYLIGHT
BEGIN:STANDARD
TZOFFSETFROM:-0700
TZOFFSETTO:-0800
TZNAME:PST
DTSTART:20251102T090000
END:STANDARD
BEGIN:DAYLIGHT
TZOFFSETFROM:-0800
TZOFFSETTO:-0700
TZNAME:PDT
DTSTART:20260308T100000
END:DAYLIGHT
BEGIN:STANDARD
TZOFFSETFROM:-0700
TZOFFSETTO:-0800
TZNAME:PST
DTSTART:20261101T090000
END:STANDARD
BEGIN:DAYLIGHT
TZOFFSETFROM:-0800
TZOFFSETTO:-0700
TZNAME:PDT
DTSTART:20270314T100000
END:DAYLIGHT
BEGIN:STANDARD
TZOFFSETFROM:-0700
TZOFFSETTO:-0800
TZNAME:PST
DTSTART:20271107T090000
END:STANDARD
END:VTIMEZONE
BEGIN:VEVENT
DTSTART;TZID=America/Los_Angeles:20260311T180000
DTEND;TZID=America/Los_Angeles:20260311T200000
DTSTAMP:20260422T043213
CREATED:20260124T211816Z
LAST-MODIFIED:20260124T211818Z
UID:10006767-1773252000-1773259200@tech.vegas
SUMMARY:Knights of the Round Table - March at Brooksy's Bar & Grill
DESCRIPTION:March Madness Meets the Knights of the Round Table \nThis March\, the Knights of the Round Table gather at Brooksy’s Bar & Gill for an evening of connection\, community\, and purpose-driven collaboration. March Madness isn’t just about basketball — it’s about building winning teams in life and business. \nJoin us as we focus on team building and the power of the round table: finding others in the community to work with\, collaborate with\, and create meaningful impact alongside. \nFeatured Community Speakers \nHear from local leaders and changemakers who are making a difference in our community. Learn\, connect\, and be inspired by those who are building something meaningful. \nEvent Top Sponsor: National Youth Advocate Program (NYAP) \nThis event is proudly sponsored by NYAP\, dedicated to transforming lives of children in foster care. We’re looking for compassionate families to become foster parents. Learn more about how you can make a difference. \nJoin entrepreneurs\, leaders\, creators\, and community builders as we come together to: \n\n\n 	Build connections that matter\n 	Support meaningful causes\n 	Find teammates at the round table who share your vision\n\nMix. Mingle. Make an Impact. \nThis is more than a meetup — it’s about building a community that lifts each other up and creates lasting change.
URL:https://tech.vegas/event/knights-of-the-round-table-march-at-brooksys-bar-grill/
LOCATION:Brooksy’s Bar & Grill 9295 W Flamingo Rd Suite 100 Las Vegas NV. 89147
CATEGORIES:Business,Community,Las Vegas Business,Networking
ATTACH;FMTTYPE=image/jpeg:https://tech.vegas/wp-content/uploads/2026/01/IMG_3161.jpeg
ORGANIZER;CN="Trenton Brisco":MAILTO:trentonbrisco@gmail.com
END:VEVENT
BEGIN:VEVENT
DTSTART;TZID=America/Los_Angeles:20260312T080000
DTEND;TZID=America/Los_Angeles:20260312T110000
DTSTAMP:20260422T043213
CREATED:20260227T222416Z
LAST-MODIFIED:20260227T222416Z
UID:10006862-1773302400-1773313200@tech.vegas
SUMMARY:LVGEA’s The State of Economic Development 2026
DESCRIPTION:@ 			\n			\n							 \n\n\n2026 State of Economic Development\n2026 is slated to be a transformational year for LVGEA\, & our State of Economic Development (SOED) event will showcase the exciting new initiatives and strategies ahead. This event will feature thought-provoking discussions on current & future economic trends\, with key insights from key business & public sector leaders in the region\, along with updates on our significant strategic planning process.  \nAdditionally\, attendees will be the first to receive access to LVGEA’s comprehensive 2025 Annual Report & additional new data insights\, & preview some of our new interactive online tools. \n\n		\n\n\nLas Vegas Global Economic Alliance\n \nView Organizer Website \n \n\n\n\n\n\n\n						\n	\n	\n\n						\n							Add to calendar						\n						\n	\n\n					\n\n\n\n									\n										Google Calendar									\n								\n\n									\n										iCalendar									\n								\n\n									\n										Outlook 365									\n								\n\n									\n										Outlook Live
URL:https://tech.vegas/event/lvgeas-the-state-of-economic-development-2026/
LOCATION:TBA\, Las Vegas
CATEGORIES:Community,Featured,Las Vegas Business
ATTACH;FMTTYPE=image/png:https://tech.vegas/wp-content/uploads/2026/02/image-4-qnZZj5.png
END:VEVENT
BEGIN:VEVENT
DTSTART;TZID=America/Los_Angeles:20260326T160000
DTEND;TZID=America/Los_Angeles:20260326T180000
DTSTAMP:20260422T043213
CREATED:20260228T184411Z
LAST-MODIFIED:20260228T184411Z
UID:10006884-1774540800-1774548000@tech.vegas
SUMMARY:Nevada Grow CommUNITY Business Success
DESCRIPTION:@ 			\n			\n							 \n\n\nYou’re Invited: CommUNITY Business Expo!Join us on March 26th from 4–6PM at the College of Southern Nevada – North Las Vegas Campus for an empowering event designed to help small businesses grow and thrive. \nThe CommUNITY Business Expo connects entrepreneurs directly with:– Licensing experts– Procurement opportunities– Workforce training resources & Funding partners \nLearn how to strengthen your business\, unlock new opportunities\, and tap into the latest $38.5 million SSBCI funding\, along with other financial resources available to support your next stage of growth. \nIf you’re ready to scale smarter and build stronger connections in our business community\, this is an event you don’t want to miss! \n\n		\n\n\nNV Grow\n \nView Organizer Website \n \n\n\n\n\n\n\n						\n	\n	\n\n						\n							Add to calendar						\n						\n	\n\n					\n\n\n\n									\n										Google Calendar									\n								\n\n									\n										iCalendar									\n								\n\n									\n										Outlook 365									\n								\n\n									\n										Outlook Live
URL:https://tech.vegas/event/nevada-grow-community-business-success/
LOCATION:CSN North Las Vegas Campus\, 3200 E Cheyenne Ave\, North Las Vegas\, NV 89030 Las Vegas \, NV 89030\, Las Vegas
CATEGORIES:Community,Education,Government & Education,Las Vegas Business,Networking
ATTACH;FMTTYPE=image/png:https://tech.vegas/wp-content/uploads/2026/02/image-14-rvoTlx.png
END:VEVENT
END:VCALENDAR