BEGIN:VCALENDAR
VERSION:2.0
PRODID:-//Tech.Vegas - ECPv6.15.20//NONSGML v1.0//EN
CALSCALE:GREGORIAN
METHOD:PUBLISH
X-ORIGINAL-URL:https://tech.vegas
X-WR-CALDESC:Events for Tech.Vegas
REFRESH-INTERVAL;VALUE=DURATION:PT1H
X-Robots-Tag:noindex
X-PUBLISHED-TTL:PT1H
BEGIN:VTIMEZONE
TZID:America/Los_Angeles
BEGIN:DAYLIGHT
TZOFFSETFROM:-0800
TZOFFSETTO:-0700
TZNAME:PDT
DTSTART:20250309T100000
END:DAYLIGHT
BEGIN:STANDARD
TZOFFSETFROM:-0700
TZOFFSETTO:-0800
TZNAME:PST
DTSTART:20251102T090000
END:STANDARD
BEGIN:DAYLIGHT
TZOFFSETFROM:-0800
TZOFFSETTO:-0700
TZNAME:PDT
DTSTART:20260308T100000
END:DAYLIGHT
BEGIN:STANDARD
TZOFFSETFROM:-0700
TZOFFSETTO:-0800
TZNAME:PST
DTSTART:20261101T090000
END:STANDARD
BEGIN:DAYLIGHT
TZOFFSETFROM:-0800
TZOFFSETTO:-0700
TZNAME:PDT
DTSTART:20270314T100000
END:DAYLIGHT
BEGIN:STANDARD
TZOFFSETFROM:-0700
TZOFFSETTO:-0800
TZNAME:PST
DTSTART:20271107T090000
END:STANDARD
END:VTIMEZONE
BEGIN:VEVENT
DTSTART;TZID=America/Los_Angeles:20260411T090000
DTEND;TZID=America/Los_Angeles:20260823T160000
DTSTAMP:20260420T130623
CREATED:20260411T185403Z
LAST-MODIFIED:20260411T185403Z
UID:10007017-1775898000-1787500800@tech.vegas
SUMMARY:Art & Science of Arachnids Traveling Exhibit
DESCRIPTION:@ 			\n			\n							 \n\nAmerica’s largest touring arachnid exhibit has arrived at the Las Vegas Science & Natural History Museum – only for the summer! Produced by Little Ray’s Exhibitions\, the Englestad Foundation Traveling Exhibition Series: The Art & Science of Arachnids is a limited time\, interactive exhibit that celebrates the fascinating world of spiders\, scorpions\, and their relatives. From hands-activities learning web-weaving and silk science\, to learning the Tarantella Dance and enjoying macro photography\, museum visitors will get a chance to dispel myths about arachnids and learn about conservation and the important role they play in our ecosystem.  \nExhibit Highlights:  \n\nLive Arachnids – Observe fascinating species up close in safe\, educational displays \n\n\nGiant Sculptures – Marvel at larger-than-life arachnid art installations \n\n\nStunning Artwork – Explore beautiful pieces celebrating these misunderstood creatures \n\n\nHands-On Activities:  \n\n\nWeb-weaving demonstrations and interactive stations \n\n\nSilk science experiments \n\n\nMacro photography opportunities \n\n\nLearn and perform the Tarantella Dance! \n\n\nCultural Connections – Discover arachnids’ roles in medicine\, music\, and folklore \n\nWhen: March 21 – August 23\, 2026\nWhere: Las Vegas Science & Natural History Museum\, 900 Las Vegas Blvd N\, Las Vegas\, NV 89101\nHours: Daily 9 a.m. – 4 p.m.  \nAdmission:  \n\nChildren 2 & under: FREE \n\n\nChildren ages 3-11: $7 \n\n\nStudents\, Seniors & Military: $12 \n\n\nAdults 18+: $14 \n\n\nNevada Resident Discounts Available (with valid ID) \n\nWebsite: https://www.lvnhm.org/  \n\n\n\n\n\n						\n	\n	\n\n						\n							Add to calendar						\n						\n	\n\n					\n\n\n\n									\n										Google Calendar									\n								\n\n									\n										iCalendar									\n								\n\n									\n										Outlook 365									\n								\n\n									\n										Outlook Live									\n								\n\n \n \n \n \n\n\n\n					Details\n	\n\n\n				Date:\n				\n					  \n				\n			\n\n				Time:
URL:https://tech.vegas/event/art-science-of-arachnids-traveling-exhibit/
LOCATION:Las Vegas Science & Natural History Museum\, l
CATEGORIES:Educational,Science & Medicine
ATTACH;FMTTYPE=image/png:https://tech.vegas/wp-content/uploads/2026/04/The-Art-Science-of-Arachnids-Ad-Facebook-Video-L2laFB.png
END:VEVENT
BEGIN:VEVENT
DTSTART;TZID=America/Los_Angeles:20260504T000000
DTEND;TZID=America/Los_Angeles:20260507T000000
DTSTAMP:20260420T130623
CREATED:20260116T182146Z
LAST-MODIFIED:20260116T182146Z
UID:10006661-1777852800-1778112000@tech.vegas
SUMMARY:Advanced Clean Transportation Expo - ACT Expo
DESCRIPTION:
URL:https://tech.vegas/event/advanced-clean-transportation-expo-act-expo/
LOCATION:Las Vegas Convention Center\, 3150 Paradise Rd\, Las Vegas\, NV 89109\, United States
ATTACH;FMTTYPE=image/png:https://tech.vegas/wp-content/uploads/2026/01/12678-MTIYYE.png
END:VEVENT
BEGIN:VEVENT
DTSTART;TZID=America/Los_Angeles:20260505T000000
DTEND;TZID=America/Los_Angeles:20260507T000000
DTSTAMP:20260420T130623
CREATED:20260116T182138Z
LAST-MODIFIED:20260116T182138Z
UID:10006658-1777939200-1778112000@tech.vegas
SUMMARY:Hospitality Design - HD Expo
DESCRIPTION:
URL:https://tech.vegas/event/hospitality-design-hd-expo/
ATTACH;FMTTYPE=image/png:https://tech.vegas/wp-content/uploads/2026/01/11135-fbMnRF.png
END:VEVENT
BEGIN:VEVENT
DTSTART;TZID=America/Los_Angeles:20260505T080000
DTEND;TZID=America/Los_Angeles:20260505T100000
DTSTAMP:20260420T130623
CREATED:20260415T001603Z
LAST-MODIFIED:20260415T001603Z
UID:10007029-1777968000-1777975200@tech.vegas
SUMMARY:How Anyone Can Become a Solo Founder with AI
DESCRIPTION:Savvy entrepreneurs are using AI to augment their capabilities and move faster than ever before\, with less resources. On this webinar with Jonathan Greechan (Co-Founder & CEO of Founder Institute\, GP at Founder Capital)\, we’ll share the prompts and processes solo-founders are using to supercharge processes like customer development\, market research\, product scoping\, and more. Don’t miss this opportunity to level up your toolkit and connect with fellow builders. \n❯ What You’ll Learn: \n\nHow to use AI to stress-test your startup idea and run faster customer development.\nSpecific prompts and tool combinations for market research\, competitive analysis\, and prototyping.\nHow to craft and practice your pitch using AI\, including building a full pitch deck with Claude Skills.\n\n❯❯ RSVP now at https://fi.co/startupwebinar/24807 to get your link and join us live! \n❯ Featured Speaker: \n\nJonathan Greechan – Co-Founder & CEO of the Founder Institute – Jonathan Greechan is the Co-Founder & CEO of the Founder Institute\, the world’s largest pre-seed startup accelerator. Since 2009\, he has grown and scaled the organization to chapters in over 200 and across over 100 countries\, producing over 8\,900 portfolio companies with an estimated value of $2BN. In his long career in tech and marketing\, Jonathan has advised thousands of startups on marketing\, growth\, and product strategy and has spoken at startup conferences on four continents.\n\n❯ Who Should Attend? \n\nAspiring founders who want to start a business but lack technical skills\nEntrepreneurs exploring how AI can accelerate their startup journey\nProfessionals considering launching a side project or solo startup\nEarly-stage founders interested in AI-powered workflows\n\n.\n❯❯ Don’t miss this live\, interactive online event packed with valuable insights! RSVP now at https://fi.co/startupwebinar/24807 to get your link and join us live!
URL:https://tech.vegas/event/how-anyone-can-become-a-solo-founder-with-ai/
LOCATION:Online event
CATEGORIES:Technology
ATTACH;FMTTYPE=image/jpeg:https://tech.vegas/wp-content/uploads/2026/04/38016_image_highres_533708557.jpeg
ORGANIZER;CN="Las Vegas Startup Founder 101":MAILTO:Las-Vegas-Startup-Founder-101-announce@messages.meetup.com
END:VEVENT
END:VCALENDAR