BEGIN:VCALENDAR
VERSION:2.0
PRODID:-//Tech.Vegas - ECPv6.15.20//NONSGML v1.0//EN
CALSCALE:GREGORIAN
METHOD:PUBLISH
X-WR-CALNAME:Tech.Vegas
X-ORIGINAL-URL:https://tech.vegas
X-WR-CALDESC:Events for Tech.Vegas
REFRESH-INTERVAL;VALUE=DURATION:PT1H
X-Robots-Tag:noindex
X-PUBLISHED-TTL:PT1H
BEGIN:VTIMEZONE
TZID:America/Los_Angeles
BEGIN:DAYLIGHT
TZOFFSETFROM:-0800
TZOFFSETTO:-0700
TZNAME:PDT
DTSTART:20250309T100000
END:DAYLIGHT
BEGIN:STANDARD
TZOFFSETFROM:-0700
TZOFFSETTO:-0800
TZNAME:PST
DTSTART:20251102T090000
END:STANDARD
BEGIN:DAYLIGHT
TZOFFSETFROM:-0800
TZOFFSETTO:-0700
TZNAME:PDT
DTSTART:20260308T100000
END:DAYLIGHT
BEGIN:STANDARD
TZOFFSETFROM:-0700
TZOFFSETTO:-0800
TZNAME:PST
DTSTART:20261101T090000
END:STANDARD
BEGIN:DAYLIGHT
TZOFFSETFROM:-0800
TZOFFSETTO:-0700
TZNAME:PDT
DTSTART:20270314T100000
END:DAYLIGHT
BEGIN:STANDARD
TZOFFSETFROM:-0700
TZOFFSETTO:-0800
TZNAME:PST
DTSTART:20271107T090000
END:STANDARD
END:VTIMEZONE
BEGIN:VEVENT
DTSTART;TZID=America/Los_Angeles:20260411T090000
DTEND;TZID=America/Los_Angeles:20260823T160000
DTSTAMP:20260421T013130
CREATED:20260411T185403Z
LAST-MODIFIED:20260411T185403Z
UID:10007017-1775898000-1787500800@tech.vegas
SUMMARY:Art & Science of Arachnids Traveling Exhibit
DESCRIPTION:@ 			\n			\n							 \n\nAmerica’s largest touring arachnid exhibit has arrived at the Las Vegas Science & Natural History Museum – only for the summer! Produced by Little Ray’s Exhibitions\, the Englestad Foundation Traveling Exhibition Series: The Art & Science of Arachnids is a limited time\, interactive exhibit that celebrates the fascinating world of spiders\, scorpions\, and their relatives. From hands-activities learning web-weaving and silk science\, to learning the Tarantella Dance and enjoying macro photography\, museum visitors will get a chance to dispel myths about arachnids and learn about conservation and the important role they play in our ecosystem.  \nExhibit Highlights:  \n\nLive Arachnids – Observe fascinating species up close in safe\, educational displays \n\n\nGiant Sculptures – Marvel at larger-than-life arachnid art installations \n\n\nStunning Artwork – Explore beautiful pieces celebrating these misunderstood creatures \n\n\nHands-On Activities:  \n\n\nWeb-weaving demonstrations and interactive stations \n\n\nSilk science experiments \n\n\nMacro photography opportunities \n\n\nLearn and perform the Tarantella Dance! \n\n\nCultural Connections – Discover arachnids’ roles in medicine\, music\, and folklore \n\nWhen: March 21 – August 23\, 2026\nWhere: Las Vegas Science & Natural History Museum\, 900 Las Vegas Blvd N\, Las Vegas\, NV 89101\nHours: Daily 9 a.m. – 4 p.m.  \nAdmission:  \n\nChildren 2 & under: FREE \n\n\nChildren ages 3-11: $7 \n\n\nStudents\, Seniors & Military: $12 \n\n\nAdults 18+: $14 \n\n\nNevada Resident Discounts Available (with valid ID) \n\nWebsite: https://www.lvnhm.org/  \n\n\n\n\n\n						\n	\n	\n\n						\n							Add to calendar						\n						\n	\n\n					\n\n\n\n									\n										Google Calendar									\n								\n\n									\n										iCalendar									\n								\n\n									\n										Outlook 365									\n								\n\n									\n										Outlook Live									\n								\n\n \n \n \n \n\n\n\n					Details\n	\n\n\n				Date:\n				\n					  \n				\n			\n\n				Time:
URL:https://tech.vegas/event/art-science-of-arachnids-traveling-exhibit/
LOCATION:Las Vegas Science & Natural History Museum\, l
CATEGORIES:Educational,Science & Medicine
ATTACH;FMTTYPE=image/png:https://tech.vegas/wp-content/uploads/2026/04/The-Art-Science-of-Arachnids-Ad-Facebook-Video-L2laFB.png
END:VEVENT
BEGIN:VEVENT
DTSTART;TZID=America/Los_Angeles:20260418T000000
DTEND;TZID=America/Los_Angeles:20260422T235959
DTSTAMP:20260421T013130
CREATED:20260114T105850Z
LAST-MODIFIED:20260114T105853Z
UID:10006578-1776470400-1776902399@tech.vegas
SUMMARY:NAB Show
DESCRIPTION:NAB Show \n\n\n\nApril 18–22\, 2026 | Las Vegas Convention CenterThe Global Stage for Media\, Entertainment and Storytelling \n\n\n\nFrom next-gen workflows and AI to monetization and global reach\, this is media and entertainment’s flagship event for breakthrough tech\, major deals and global visibility.Why Attend? \n\n\n\nBuild meaningful connections with a global community of content creators. \n\n\n\nDiscover how emerging tools are shaping media and entertainment \n\n\n\nExperience the latest in AI\, XR\, cloud and live production \n\n\n\nGet hands-on with solutions spanning content creation to monetization \n\n\n\nLearn from industry leaders across film\, TV\, streaming and sportsWhy Exhibit? \n\n\n\nClose high-value deals with a cross-sector buyer base \n\n\n\nMeet decision-makers from top media brands and content platforms \n\n\n\nLaunch products and showcase solutions on the biggest stage in media tech \n\n\n\nAccess premium placement\, turnkey packages and lead gen tools
URL:https://tech.vegas/event/nab-show/
CATEGORIES:Featured,Networking
ATTACH;FMTTYPE=image/png:https://tech.vegas/wp-content/uploads/2026/01/image-12.png
END:VEVENT
BEGIN:VEVENT
DTSTART;TZID=America/Los_Angeles:20260420T000000
DTEND;TZID=America/Los_Angeles:20260422T000000
DTSTAMP:20260421T013130
CREATED:20260116T182207Z
LAST-MODIFIED:20260116T182207Z
UID:10006675-1776643200-1776816000@tech.vegas
SUMMARY:MEDICARIANS
DESCRIPTION:
URL:https://tech.vegas/event/medicarians/
LOCATION:CAESARS FORUM\, 3911 South Koval Lane\, Las Vegas\, NV\, 89109\, United States
ATTACH;FMTTYPE=image/png:https://tech.vegas/wp-content/uploads/2026/01/70606-114P6W.png
END:VEVENT
BEGIN:VEVENT
DTSTART;TZID=America/Los_Angeles:20260420T000000
DTEND;TZID=America/Los_Angeles:20260422T235959
DTSTAMP:20260421T013130
CREATED:20260228T112725Z
LAST-MODIFIED:20260228T112727Z
UID:10006883-1776643200-1776902399@tech.vegas
SUMMARY:PEAK CONF
DESCRIPTION:PEAK 2026 is recognized as the global home for the sports technology and innovation industry\, serving as a primary gathering point for founders\, investors\, and sports executives. Taking place from April 20 to 22\, 2026\, at the Fontainebleau Las Vegas\, the summit focuses on the intersection of athlete performance\, fan engagement\, and sports management. The event features a diverse program including a high profile Tech Expo with over 100 solution providers\, the Startup World Cup competition\, and expert led sessions on emerging trends like AI in sports and digital transformation. Beyond the formal presentations\, PEAK is designed to facilitate high energy networking and direct collaboration between visionary startups and the world’s most prominent sports leagues and corporate partners. It provides a comprehensive platform for anyone looking to discover\, fund\, or implement the next generation of technologies shaping the future of global sport.
URL:https://tech.vegas/event/peak-conf/
LOCATION:Fontainebleau Las Vegas\, 2777 S Las Vegas Blvd\, Las Vegas\, NV 89109\, United States
CATEGORIES:Featured,Networking,Sports & Esports,Technology
ATTACH;FMTTYPE=image/png:https://tech.vegas/wp-content/uploads/2026/02/image-8-scaled.png
END:VEVENT
BEGIN:VEVENT
DTSTART;TZID=America/Los_Angeles:20260420T000000
DTEND;TZID=America/Los_Angeles:20260424T235959
DTSTAMP:20260421T013130
CREATED:20260228T112346Z
LAST-MODIFIED:20260228T112349Z
UID:10006882-1776643200-1777075199@tech.vegas
SUMMARY:Leads Con
DESCRIPTION:LeadsCon is the world’s largest conference and exposition dedicated to lead generation and performance marketing. Scheduled for April 22 to 24\, 2026\, at the MGM Grand in Las Vegas\, the event brings together thousands of Fortune 1000 marketers\, lead buyers\, agencies\, and technology providers. Attendees participate in executive level networking and expert led sessions focused on customer acquisition strategies\, conversion optimization\, and the latest marketing technologies. The summit serves as a central hub for professionals across various industries\, including mortgage\, insurance\, fintech\, and education\, to navigate the evolving landscape of digital marketing and data driven growth.
URL:https://tech.vegas/event/leads-con/
LOCATION:MGM Grand\, 3799 S Las Vegas Blvd\, Las Vegas\, NV 89109\, United States
CATEGORIES:Featured
ATTACH;FMTTYPE=image/png:https://tech.vegas/wp-content/uploads/2026/02/image-7.png
END:VEVENT
BEGIN:VEVENT
DTSTART;TZID=America/Los_Angeles:20260420T080000
DTEND;TZID=America/Los_Angeles:20260422T170000
DTSTAMP:20260421T013130
CREATED:20260408T165154Z
LAST-MODIFIED:20260408T165156Z
UID:10007002-1776672000-1776877200@tech.vegas
SUMMARY:Adobe Summit
DESCRIPTION:Discover what’s next in marketing\, creativity\, and AI. \n\n\n\nApril 20–22\, 2026 | Las Vegas and onlineApril 19 | Preconference \n\n\n\nUnlock the power of Adobe’s AI-native platform to create content at scale\, orchestrate personalized experiences\, and accelerate business growth. Get exclusive insights from global leaders and experts\, plus hands-on experience with the latest Adobe solutions.
URL:https://tech.vegas/event/adobe-summit/
LOCATION:The Venetian Expo\, 201 Sands Ave\, Las Vegas\, NV 89169\, United States
CATEGORIES:Conventions,Featured,Technology
ATTACH;FMTTYPE=image/png:https://tech.vegas/wp-content/uploads/2026/04/image-scaled.png
END:VEVENT
BEGIN:VEVENT
DTSTART;TZID=America/Los_Angeles:20260421T110000
DTEND;TZID=America/Los_Angeles:20260421T130000
DTSTAMP:20260421T013130
CREATED:20260323T183542Z
LAST-MODIFIED:20260323T183542Z
UID:10006957-1776769200-1776776400@tech.vegas
SUMMARY:Nevada REALTORS® Housing Forum
DESCRIPTION:Join Nevada REALTORS® for a Housing Forumndesigned to spark meaningful dialogue around shared challenges\, & emerging opportunities.\n\n\nJoin Nevada REALTORS® for a Housing Forum Luncheon designed to spark meaningful dialogue around shared challenges\, emerging opportunities\, and the future of housing in our state. \nThis exclusive luncheon welcomes representatives from REALTOR® organizations\, builders\, developers\, and housing-related associations to collaborate on solutions that strengthen housing and communities across Nevada.
URL:https://tech.vegas/event/nevada-realtors-housing-forum/
LOCATION:Proprietor’s Reserve\, 6635 Badura Avenue\, #Suite 180\, Las Vegas\, NV\, 89118\, United States
CATEGORIES:Real Estate & Construction
ATTACH;FMTTYPE=image/jpeg:https://tech.vegas/wp-content/uploads/2026/03/968f03fa05c6df24f064d047220bb43a.jpg
END:VEVENT
BEGIN:VEVENT
DTSTART;TZID=America/Los_Angeles:20260421T113000
DTEND;TZID=America/Los_Angeles:20260421T130000
DTSTAMP:20260421T013130
CREATED:20260416T172453Z
LAST-MODIFIED:20260416T172455Z
UID:10007030-1776771000-1776776400@tech.vegas
SUMMARY:Inside Southern Nevada Healthcare: Trends\, Growth & What's Next! 
DESCRIPTION:Inside Southern Nevada’s Healthcare: Trends\, Growth & What’s Next. A don’t Miss Panel Discussion. Register today!  \n\n\n\nMODERATED BY: \n\n\n\nRebekah MorrisPresident & Founder\, BEX \n\n\n\nRebekah started the twice-weekly news magazine in 2010\, and has since grown the service into a multi-faceted resource for Commercial Real Estate & A/E/C firms to find leads on upcoming projects\, industry news\, trends\, and market insights. In November 2024\, BEX entered the Nevada market with NVBEX. In 2015\, AZBEX started producing events and now features four annual half-day conferences and six breakfast panels known as the Leading Market Series for the Arizona market. \n\n\n\nIn 2016\, the AZBEX Database or DATABEX was launched. Both the events and database are engineered to bring opportunities to clients – whether it’s the contacts made at a half-day conference or bi-monthly breakfast program or the early stage notice of a project in the database\, every service BEX offers is focused on bringing opportunity to clients. Rebekah’s background working for a large General Contractor enabled her to spot the opportunity to start BEX\, but it is her grit\, determination and eternal curiosity for the industry that has kept it going and growing each year. \n\n\n\nCONFIRMED PANELISTS: \n\n\n\nElizabeth Lopez\, MBA\, CEcDVice President of Business Development & StrategyLas Vegas Global Economic Alliance (LVGEA) \n\n\n\nElizabeth Lopez leads regional business attraction\, expansion strategy\, and partnership development to advance Southern Nevada’s economic competitiveness and long-term growth. With nearly two decades of experience spanning economic development\, finance\, real estate\, and public-private partnerships\, Elizabeth brings a strategic\, results-driven\, data-informed approach to market positioning\, deal origination\, and ecosystem building. Her work has supported companies across a wide range of industries\, with a strong emphasis on job creation\, innovation\, and inclusive economic growth\, including the effective use of complex federal programs such as New Market Tax Credits. \n\n\n\nDr. Renee CoffmanPresident and Co-Founder of Roseman University of Health Sciences \n\n\n\nDr. Renee Coffman is President and Co-Founder of Roseman University of Health Sciences. A pharmacist and healthcare educator\, she has helped lead the university’s growth from a pharmacy college in Henderson to a multi-campus institution serving Nevada and Utah. Roseman now operates major campuses in Henderson and Summerlin\, where it educates future physicians\, nurses\, pharmacists\, dentists\, and researchers. Under her leadership\, the university continues expanding academic programs\, clinical training sites\, and research initiatives\, while advancing long-term campus development plans\, including a major expansion of its Summerlin campus to support healthcare education\, research\, and innovation in Southern Nevada. \n\n\n\n\n\n\n\nDiego TrujilloChief Executive Officer of Las Vegas HEALS \n\n\n\nDiego Trujillo is the Chief Executive Officer of Las Vegas HEALS\, the region’s largest healthcare coalition dedicated to advancing collaboration\, workforce development\, and policy alignment across Southern Nevada’s healthcare ecosystem. Through HEALS\, he works at the intersection of healthcare delivery\, economic development\, and infrastructure\, bringing together providers\, developers\, policymakers\, and innovators to address systemic gaps in access\, capacity\, and growth. \n\n\n\nWith more than 15 years of experience in healthcare strategy and market development\, Diego has led initiatives that connect healthcare expansion with real estate\, workforce pipelines\, and emerging technologies. His work focuses on positioning healthcare as a core driver of regional development\, including efforts tied to the Las Vegas Medical District\, physician retention\, and the integration of new care delivery models. \n\n\n\nMissy BramanSenior Economic Development Specialist\, City of Las VegasEconomic & Urban Development DepartmentMissy\, a proud Las Vegas native\, joined the City of Las Vegas in November 2024 as a Senior Economic and Development Specialist. In this role\, she serves as a key leader in the $10 million BioHealth Challenge\, which aims to attract innovative proposals for the development and operation of a cutting edge biosciences incubator. Before joining the city\, Missy managed a diverse portfolio of commercial properties while playing a key role in new project developments across the Southwest\, Downtown Las Vegas\, and Northwest regions with Dapper Companies.As part of our healthcare panel\, the City of Las Vegas will provide an update on the Las Vegas Medical District and its continued evolution. Attendees will gain insight into the plans\, progress\, and partnerships driving this key area of healthcare and economic development forward.
URL:https://tech.vegas/event/inside-southern-nevada-healthcare-trends-growth-whats-next/
LOCATION:WSKY Stadium\, 5625 Polaris Ave Suite 100 Las Vegas\, NV 89118
CATEGORIES:Featured
ATTACH;FMTTYPE=image/png:https://tech.vegas/wp-content/uploads/2026/04/image-10.png
END:VEVENT
BEGIN:VEVENT
DTSTART;TZID=America/Los_Angeles:20260421T170000
DTEND;TZID=America/Los_Angeles:20260421T200000
DTSTAMP:20260421T013130
CREATED:20260124T212027Z
LAST-MODIFIED:20260124T212027Z
UID:10006768-1776790800-1776801600@tech.vegas
SUMMARY:Women in Technology Awards
DESCRIPTION:TVNewsCheck’s Women in Technology Awards recognize women who make a significant impact on media industry technology.\n\n\nWe thank our sponsors for their generous support of the Women in Technology Awards. \n\n\nThe Women in Technology Awards are presented in three categories: \n\nTechnology Women to Watch\nWomen in Technology Futurist and\nWomen in Technology Leadership Award\, the highest honor\n\nA cocktail reception follows the Award Presentation Ceremony. \nThe awards are presented at NAB Show at the Show Floor Theater 2 (W2361)\, West Hall\, LVCC. \n \nMeet the 2026 Women in Technology Award Honorees\n \n\n\nAna Eliza Faria e Silva\nSenior Executive | Broadcast Standards & Regulatory Strategy | Digital Television Innovation; Globo \nLeadership Award \n\n\n\nTerri Davies\nPresident; Trusted Partner Network (TPN) \nFuturist Award \n\n\n\nLinsdey Stewart\nFounder & CEO; Stringr \nFuturist Award \n\n\n\nValeria Sosa\nEngineer; Netflix \nWomen to Watch Award \n\n\n\nDevanshi Kotak\nSenior Product Manager; Cisco \nWomen to Watch Award \n\n\n\nMersedeh Najishabahang\nElectrical Engineer; Dielectric \nWomen to Watch Award \n\n\n\nWomen in Technology Awards Committee Members\n \nKathy Haley\, Founder WIT Awards\, Co-founder & Publisher; NewsCheck Media \nMadlyn Del Monte\, Chair WIT Awards Committee\, VP Transformation; Paramount Global \nHannah Barnhardt\, COO & Co-Founder; TMT Insights \nAndrea Berry\, EVP\, Operations & Technology; NBC/Telemundo \nPeggy Blaze\, Account Director; Bubble Agency \nJanet Gardner\, President; Perspective Media Group \nBarbara Lange\, Founder & CEO; Kibo121 \nMarcy Lefkovitz\, SVP Product Innovation; Dalet \nSam Matheny\, CTO & EVP; National Association of Broadcasters (NAB) \nMadeleine Noland\, President; ATSC: The Broadcast Standards Association \nAnne Schelle\, Managing Director; PearlTV \nSara Seidel\, Marketing Manager; Riedel \nJoe Zaller\, Founder; Devoncroft Partners
URL:https://tech.vegas/event/women-in-technology-awards-2/
LOCATION:Las Vegas Convention Center West Hall\, 300 Convention Center Dr\, Las Vegas\, NV\, 89109\, United States
CATEGORIES:Technology
ATTACH;FMTTYPE=image/jpeg:https://tech.vegas/wp-content/uploads/2026/01/64af794a06e207fbef68193867d8f5dc.jpg
END:VEVENT
BEGIN:VEVENT
DTSTART;TZID=America/Los_Angeles:20260421T170000
DTEND;TZID=America/Los_Angeles:20260421T200000
DTSTAMP:20260421T013130
CREATED:20251202T013300Z
LAST-MODIFIED:20251202T013300Z
UID:10006458-1776790800-1776801600@tech.vegas
SUMMARY:Crypto Clubhouse: Privacy on Tap + Bingo + Prizes + Giveaways 6-9pm Goat Bar
DESCRIPTION:🎧 Crypto Clubhouse: Privacy on Tap + Tech Trivia + Bingo Night @ G.O.A.T. Bar \n🗓️ Bi-Monthly; Tuesdays | 🕕 6:00 PM – 9:00 PM\n📍 Inside G.O.A.T. Sports Bar – 3805 W Sahara Ave\, Las Vegas\, NV\n🎟️ Free Entry | 21+ | Casual Attire | Crypto\, Creators & Community \nStep into the heartbeat of Las Vegas Web3 culture at the next Vegas Crypto Clubhouse event — a weekly showcase of music\, art\, emerging tech\, and real-world connection curated by the Vegas Crypto Group. \nNightly Flow:\n6:00 – 7:30 PM – Free food & drinks\, Web3 Networking Mixer and Presentations. Meet privacy advocates\, builders\, and creators in a zero-pressure environment with IRL conversations about decentralization\, censorship-resistance\, and freedom tech — all soundtracked by resident DJ Ceaseless spinning chillhop and soulful beats. \n7:30 – 8:00 PM – Fireside chat + trivia. Explore Monero\, Litecoin’s MWEB\, and the latest in privacy tech. Hosted by community leaders sharing insights and giveaways for those who join the conversation. \n8:00 – 9:00 PM – Bingo Night at the Crypto Clubhouse brings high-energy rounds of bingo\, crypto-themed prizes\, laughter\, and community vibes inside the lively Goat Bar atmosphere. \nStop by the Edge Wallet Tip Table to try hands-on crypto tipping\, score exclusive swag\, and learn how to use Edge Wallet for simple\, secure transactions. Expect lively debates\, community giveaways\, and merch drops that keep the focus on freedom and self-sovereignty. \n🎯 Why Come?\n✅ Mingle with Vegas’ top privacy advocates\, founders\, and crypto enthusiasts\n✅ Learn real-world use cases for Monero\, Litecoin MWEB\, and freedom tech\n✅ Experience the Edge Wallet Tip Table with live tipping and rewards\n✅ Stickers\, QR code surprises\, and limited-edition giveaways\n✅ DJs setting the mood with conversation-worthy grooves\n✅ Fun\, approachable community whether you’re new or experienced\n📸 Content creators welcome! \nWhether you’re curious about privacy coins or already running your life through encrypted channels\, this is your weekly home for community energy\, freedom-forward ideas\, and culture-driven connection. \nPowered by:\nStand With Crypto – standwithcrypto.org: A grassroots advocacy organization dedicated to defending the rights of individuals to own and use cryptocurrencies in the United States. They mobilize crypto enthusiasts to engage with policymakers and promote pro-crypto legislation. \nEdge Wallet – edge.app: The simple\, secure crypto wallet designed for everyday use. Check out the Tip Table activation at the event to experience real-time tipping and rewards. \nVegas Crypto is facilitating a friendly and knowledgeable group. We organize out of a passion for self-ownership\, emerging technology and for the decentralized\, distributed\, transparent\, peer to peer\, permission-less\, pseudo-anonymous\, censorship resistant Bitcoin and Crypto community. Learn more and find all our events listed on InformEmpower.com. \n🔗 RSVP now and we’ll see you at the Vegas Crypto Clubhouse brought to you by the Vegas Crypto Group! At the G.O.A.T. Bar\, 3805 W. Sahara Ave.
URL:https://tech.vegas/event/crypto-clubhouse-privacy-on-tap-bingo-prizes-giveaways-6-9pm-goat-bar-16/
LOCATION:GOAT Sports Bar\, 3805 W Sahara Ave\, Las Vegas\, nv\, 89102\, US
CATEGORIES:Technology
ATTACH;FMTTYPE=image/jpeg:https://tech.vegas/wp-content/uploads/2025/12/27060_image_highres_531226793.jpeg
ORGANIZER;CN="Vegas Crypto Group":MAILTO:VegasCryptoGroup-announce@messages.meetup.com
END:VEVENT
BEGIN:VEVENT
DTSTART;TZID=America/Los_Angeles:20260421T180000
DTEND;TZID=America/Los_Angeles:20260421T193000
DTSTAMP:20260421T013130
CREATED:20260221T080814Z
LAST-MODIFIED:20260221T080814Z
UID:10006836-1776794400-1776799800@tech.vegas
SUMMARY:Essential AI Skills: Explore & Practice
DESCRIPTION:Take a deep dive into the world of artificial intelligence and learn how to leverage cutting-edge tools to create\, innovate\, and tell compelling stories.\nThis 3-week (6-session) hands-on course combines foundational AI concepts with practical projects\, from building custom GPTs to designing investor-ready pitch decks. \nThis class is designed to gain real-world skills and confidence to integrate AI into your workflow and apply them for everyday use. \nWhat to expect:\nEach session will explore an AI tools and have attendees take on a challenge – some topics include: \n\nExploring ChatGPT\nTrain your own AI w/Teachable Machine (by Google)\nUnderstanding and working with AI Classifiers\nVibe Coding\n\nClass Schedule: \n\nApril 21st (Tuesday)\, 7 – 8:30 pm ET (4 -5:30 pm PT)\nApril 25th (Saturday)\, 12 – 1:30 pm ET (9 -10:30 am PT)\nApril 28th (Tuesday)\, 7 – 8:30 pm ET (4 -5:30 pm PT)\nMay 2nd (Saturday)\, 12 – 1:30 pm ET (9 -10:30 am PT)\nMay 5th (Tuesday)\, 7 – 8:30 pm ET (4 -5:30 pm PT)\nMay 9th (Saturday)\, 12 – 1:30 pm ET (9 -10:30 am PT)\n\nAll classes will be recorded and the recordings distributed before the next class. \nClass Cost: $325\nGDI remains committed to ensuring class is never a barrier to taking one of our classes. Please email Katie@girldevelopit.com if you need assistance to take this class.
URL:https://tech.vegas/event/essential-ai-skills-explore-practice/
LOCATION:Online event
CATEGORIES:Technology
ATTACH;FMTTYPE=image/jpeg:https://tech.vegas/wp-content/uploads/2026/02/28843_image_highres_532780036.jpeg
ORGANIZER;CN="Girl Develop It Las Vegas":MAILTO:girl-develop-it-las-vegas-announce@messages.meetup.com
END:VEVENT
BEGIN:VEVENT
DTSTART;TZID=America/Los_Angeles:20260421T180000
DTEND;TZID=America/Los_Angeles:20260421T200000
DTSTAMP:20260421T013130
CREATED:20260320T070310Z
LAST-MODIFIED:20260320T070310Z
UID:10006950-1776794400-1776801600@tech.vegas
SUMMARY:What AI tools are you using?
DESCRIPTION:AI tools\, specifically those applicable to app development\, are moving fast with new models and capabilities popping up almost weekly. \nLet’s meet Grouchy John’s Coffee shop at “8520 S Maryland Pkwy” to have a show-n-tell of sorts to discuss what we are all using (or not using) in the realm of AI to help us with our app development. \nGot something you want to show off?\nGot some questions you want help answering? \nThen join us!\nI might even buy you a beverage if you arrive early. \n————————–\nJoin our online active on Discord chat: https://discord.gg/nBJZk8y\n————————– \nHere is a link to where I store presentations/materials for current and past presentations to the group. I usually upload the materials a day or two before the meetup date so people can review and follow along. Its organized by date:\nhttps://github.com/hotngui/LViOS-Developers\n***
URL:https://tech.vegas/event/what-ai-tools-are-you-using/
LOCATION:Grouchy John’s Coffee\, 8520 South Maryland Parkway\, Las Vegas\, NV\, 89123\, US
CATEGORIES:Technology
ATTACH;FMTTYPE=image/jpeg:https://tech.vegas/wp-content/uploads/2026/03/33050_image_highres_533277158.jpeg
ORGANIZER;CN="Las Vegas iOS Developers":MAILTO:las-vegas-ios-announce@messages.meetup.com
END:VEVENT
BEGIN:VEVENT
DTSTART;TZID=America/Los_Angeles:20260421T180000
DTEND;TZID=America/Los_Angeles:20260421T200000
DTSTAMP:20260421T013130
CREATED:20250122T171332Z
LAST-MODIFIED:20250122T171332Z
UID:10005073-1776794400-1776801600@tech.vegas
SUMMARY:Monthly Meetup @ Corporate Coworking
DESCRIPTION:Join our Discord by clicking [here](https://discord.gg/RGFGV8gKxB) – https://discord.gg/RGFGV8gKxB \nOur monthly Vegas Programmers group meets at 6pm on the 3rd Tuesday of every month at Corporate Coworking. All levels of experience are welcome. We love to share knowledge and talk about the latest in programming\, AI\, mobile app development\, and more. Every month we have a technical talk presented by members of the group. If you have a talk you’d like to share\, email me Josh@RemoteDevForce.com \nSpeakers and topics are TBD. \nRSVP now as seating is limited. \nWe upload talks to our YouTube channel a few days after the meetup. https://www.youtube.com/channel/UCVAynQyhWbBoc-pBhOuSTrg \nWe are looking for sponsors\, speakers\, freelance developers\, and businesses looking to hire talent. Contact me at Josh@RemoteDevForce.com for more information. \nThanks for joining our group! \n-Joshua Copeland\n@OGProgrammer \n**~~~SPONSORS~~~** \n**CorporateCowork.com – a co-working community**\nChoose from either of the free 1 time options below:\nDay pass: \n* Includes 9am-5pm access of our coworking office\n* Desk with wide screen monitor\n* Cold brew tap and micro brew coffee\n* Privacy booths\n* Creative common areas and more \nEvent Space: \n* Pick one of our 4 event spaces options from a training room to an event space with a bar or kitchen. \nContact Tony at tkerrnaja@corporatecowork.com for more information. \n**JetBrains** – They make the best IDEs in the business.\nWe give out a free 1 year JetBrains license at every meetup.
URL:https://tech.vegas/event/monthly-meetup-corporate-coworking-25/
LOCATION:Corporate Coworking Las Vegas\, 5725 S Valley View Blvd UNIT 7\, Las Vegas\, NV\, 89118\, us
CATEGORIES:Startups
ATTACH;FMTTYPE=image/jpeg:https://tech.vegas/wp-content/uploads/2025/01/1024x576-8JmEKq.tmp_.jpg
END:VEVENT
BEGIN:VEVENT
DTSTART;TZID=America/Los_Angeles:20260421T183000
DTEND;TZID=America/Los_Angeles:20260421T193000
DTSTAMP:20260421T013130
CREATED:20260114T120821Z
LAST-MODIFIED:20260114T120821Z
UID:10006589-1776796200-1776799800@tech.vegas
SUMMARY:Spiritual Science Discussion Group
DESCRIPTION:A discussion circle for those leaving organized religion and seeking grounded\, thoughtful spiritual understanding.
URL:https://tech.vegas/event/spiritual-science-discussion-group-7/
LOCATION:Ombodhi Village~Grounding Oasis\, 4343 North Rancho Drive\, #suite 230\, Las Vegas\, NV\, 89130\, United States
ATTACH;FMTTYPE=image/jpeg:https://tech.vegas/wp-content/uploads/2026/01/34e61c55e9892085df59ae0a11f207b9.jpg
END:VEVENT
END:VCALENDAR