BEGIN:VCALENDAR
VERSION:2.0
PRODID:-//Tech.Vegas - ECPv6.15.20//NONSGML v1.0//EN
CALSCALE:GREGORIAN
METHOD:PUBLISH
X-WR-CALNAME:Tech.Vegas
X-ORIGINAL-URL:https://tech.vegas
X-WR-CALDESC:Events for Tech.Vegas
REFRESH-INTERVAL;VALUE=DURATION:PT1H
X-Robots-Tag:noindex
X-PUBLISHED-TTL:PT1H
BEGIN:VTIMEZONE
TZID:America/Los_Angeles
BEGIN:DAYLIGHT
TZOFFSETFROM:-0800
TZOFFSETTO:-0700
TZNAME:PDT
DTSTART:20250309T100000
END:DAYLIGHT
BEGIN:STANDARD
TZOFFSETFROM:-0700
TZOFFSETTO:-0800
TZNAME:PST
DTSTART:20251102T090000
END:STANDARD
BEGIN:DAYLIGHT
TZOFFSETFROM:-0800
TZOFFSETTO:-0700
TZNAME:PDT
DTSTART:20260308T100000
END:DAYLIGHT
BEGIN:STANDARD
TZOFFSETFROM:-0700
TZOFFSETTO:-0800
TZNAME:PST
DTSTART:20261101T090000
END:STANDARD
BEGIN:DAYLIGHT
TZOFFSETFROM:-0800
TZOFFSETTO:-0700
TZNAME:PDT
DTSTART:20270314T100000
END:DAYLIGHT
BEGIN:STANDARD
TZOFFSETFROM:-0700
TZOFFSETTO:-0800
TZNAME:PST
DTSTART:20271107T090000
END:STANDARD
END:VTIMEZONE
BEGIN:VEVENT
DTSTART;TZID=America/Los_Angeles:20260321T000000
DTEND;TZID=America/Los_Angeles:20260327T000000
DTSTAMP:20260420T123041
CREATED:20260116T182404Z
LAST-MODIFIED:20260116T182404Z
UID:10006722-1774051200-1774569600@tech.vegas
SUMMARY:Annual Meeting 2026
DESCRIPTION:
URL:https://tech.vegas/event/annual-meeting-2026/
LOCATION:The Cosmopolitan of Las Vegas\, 3708 Las Vegas Blvd S Las Vegas\, NV 89109\, Las Vegas
ATTACH;FMTTYPE=image/png:https://tech.vegas/wp-content/uploads/2026/01/convention-canva-oW6uxm.png
END:VEVENT
BEGIN:VEVENT
DTSTART;TZID=America/Los_Angeles:20260321T080000
DTEND;TZID=America/Los_Angeles:20260321T170000
DTSTAMP:20260420T123041
CREATED:20250515T194733Z
LAST-MODIFIED:20251031T202742Z
UID:10005584-1774080000-1774112400@tech.vegas
SUMMARY:Tech Alley
DESCRIPTION:Tech Alley is a dynamic\, community-driven initiative based in Las Vegas\, dedicated to nurturing the local technology and startup ecosystem. It serves as a vibrant hub where entrepreneurs\, technologists\, and innovators converge to share knowledge\, collaborate\, and bring ideas to fruition. Through a variety of events\, educational workshops\, and mentorship programs\, Tech Alley fosters an inclusive and diverse environment that promotes growth and success in the tech and startup community. Regular meetups Downtown Las Vegas are on the third Saturday of each month. \n\n\n\nBeyond events\, Tech Alley offers avenues for continuous engagement and learning. It features groups focused on various aspects of entrepreneurship and technology\, including design and fundraising\, led by community leaders. Additionally\, Tech Alley provides access to resident experts in fields like cybersecurity\, fundraising\, business law\, SEO\, and blockchain\, offering valuable insights to help navigate the complexities of business and technology. By uniting people and fostering a creative class\, Tech Alley plays a pivotal role in strengthening communities and promoting an innovative technology and startup culture in Las Vegas.
URL:https://tech.vegas/event/tech-alley/2026-03-21/
LOCATION:Taverna Costera\, 1031 S Main St\, Las Vegas\, NV\, 89101\, us
CATEGORIES:Economic Development,Educational,Featured,Networking,Pitch/ Competition,Startups,Technology
ATTACH;FMTTYPE=image/jpeg:https://tech.vegas/wp-content/uploads/2025/05/tech-alley-banner.jpg
GEO:36.159767;-115.15288
X-APPLE-STRUCTURED-LOCATION;VALUE=URI;X-ADDRESS=Taverna Costera 1031 S Main St Las Vegas NV 89101 us;X-APPLE-RADIUS=500;X-TITLE=1031 S Main St:geo:-115.15288,36.159767
END:VEVENT
BEGIN:VEVENT
DTSTART;TZID=America/Los_Angeles:20260321T090000
DTEND;TZID=America/Los_Angeles:20260321T150000
DTSTAMP:20260420T123041
CREATED:20260313T023835Z
LAST-MODIFIED:20260313T023835Z
UID:10006923-1774083600-1774105200@tech.vegas
SUMMARY:Future Frontiers: AI Film Showcase + Builders Salon - Every 3rd Sat. 10am-4pm
DESCRIPTION:Future Frontiers: AI Film Showcase + Builders Salon\nAI • Web3 • Crypto • Creative Technology \nAI-generated films.\nExperimental tools.\nNew ways of building with technology. \nAt Future Frontiers\, curious minds gather to explore what these signals might mean — and how to build with them. \nHosted by Vegas Crypto Group\, this event brings together creators\, developers\, entrepreneurs\, and explorers interested in the intersection of AI\, crypto\, Web3\, and emerging technology. \nIf you’re curious about the future of technology – this is your place. \nWhat Happens at Future Frontiers\nEach gathering is part tech meetup\, part creative salon\, and part builder community. \n🎬 AI Film Showcase\nWatch an award-winning AI-generated short film and hear how it was created using tools like Midjourney\, RunwayML\, and HeyGen. \n🤖 Beginner AI Workshop\nA short introduction to the tools people are using to create AI videos\, avatars\, and content. \nPerfect for beginners who want to understand what’s possible with AI. \n🛠 Builder Demos\nMembers of the community share short demos of things they’ve built with AI or Web3. \nExamples include:\n• AI video creation\n• automation tools\n• creative experiments\n• startup ideas \n🧠 AI Trivia Challenge\nWe’ll run a fun group trivia game on the big screen with AI and crypto questions. \nWinner receives a crypto or AI-related prize. \n🤝 Networking\nMeet creators\, builders\, founders\, and curious explorers from across the Las Vegas tech community. \nWhy This Event Exists\nVegas Crypto Group has hosted 200+ meetups since 2018\, bringing together people interested in crypto\, Web3\, Ai\, and emerging technology. \nAs artificial intelligence rapidly evolves\, Future Frontiers was created as a place where the community can explore the next wave of tools and ideas together. \nSome come to learn.\nSome come to build.\nSome come simply out of curiosity. \nAll are welcome. \nWho Should Attend\nFuture Frontiers is perfect for:\n• entrepreneurs\n• developers\n• creators & filmmakers\n• marketers & real estate professionals\n• AI enthusiasts\n• crypto & Web3 builders\n• anyone curious about emerging technology \nNo technical experience required. \nEvent Details\nLocation:\nTech Alley at Third St Theater – Theater 4 \nTime:\n10:00 AM – 12:00 PM \nNetworking continues afterward with the Tech Alley lunch at 12:15 PM. \nSupported By\nStand With Crypto\nAI Film 3\nPrometheus Productions\nTech Alley \nA Note for the Curious\nSome attendees have noticed strange visual symbols appearing in our event materials. \nIf you see the Orange Rabbit\, you’re probably paying attention. \nFollow the signal. \n⸻\n🎟 RSVP Now – Spots Are Limited! \nBring your good vibes\, your curiosity\, and your phone — let’s explore\, connect\, and make Web3 & Ai history together during Tech Alley – learn more at TechAlley.org. \nBig thank you to our sponsors! \nAbout Stand with Crypto\nLearn more about how real people are making real change in Nevada and nationwide at StandWithCrypto.org – A grassroots advocacy organization dedicated to defending the rights of individuals to own and use cryptocurrencies in the United States. They mobilize crypto enthusiasts to engage with policymakers and promote pro-crypto legislation. Follow on X:https://x.com/standwithcrypto \nAbout Tech Alley\nTech Alley is one of Las Vegas’ longest-running technology meetups\, bringing together entrepreneurs\, developers\, investors\, and curious minds from across the local startup and innovation community. Held monthly in the Arts District\, Tech Alley features talks\, demos\, and conversations about emerging technology\, startups\, and the future of business. It’s a welcoming place to meet builders\, share ideas\, and connect with people shaping the Las Vegas tech ecosystem. Visit TechAlley.org to learn more. \nAbout Vegas Crypto Group\nVegas Crypto Group facilitates friendly and knowledgeable meetups & events. We organize out of a passion for emerging technology\, self-ownership\, free exchange\, and for the decentralized\, distributed\, transparent\, peer to peer\, permission-less\, pseudo-anonymous\, censorship resistant Bitcoin and Crypto community. Learn more at VegasCryptoGroup.com
URL:https://tech.vegas/event/future-frontiers-ai-film-showcase-builders-salon-every-3rd-sat-10am-4pm/
LOCATION:Eclipse Theater\, 814 S. Third Street\, Las Vegas\, NV\, 89101\, US
CATEGORIES:Technology
ATTACH;FMTTYPE=image/jpeg:https://tech.vegas/wp-content/uploads/2026/03/31886_image_highres_533167854.jpeg
ORGANIZER;CN="Vegas Crypto Group":MAILTO:VegasCryptoGroup-announce@messages.meetup.com
END:VEVENT
BEGIN:VEVENT
DTSTART;TZID=America/Los_Angeles:20260321T121500
DTEND;TZID=America/Los_Angeles:20260321T133000
DTSTAMP:20260420T123041
CREATED:20260228T060328Z
LAST-MODIFIED:20260228T060328Z
UID:10006879-1774095300-1774099800@tech.vegas
SUMMARY:Las Vegas Drones Monthly Meetup
DESCRIPTION:The Las Vegas Drones Monthly Meetup is a consistent\, in-person gathering for drone pilots\, builders\, researchers\, and enthusiasts of all experience levels. Hosted by the Las Vegas Drones Meetup Group\, we’ve been bringing the local drone community together every month since 2022. \nOur meetups combine hands-on drone flying\, training and knowledge sharing\, and real-world discussions around drone technology. In addition to indoor sessions\, we regularly organize outdoor fly-outs\, community picnics\, and practical flying sessions when weather and airspace allow.\nWhether you’re a licensed professional\, hobbyist\, or newcomer\, this is a welcoming space to learn\, fly\, connect\, and grow with the Las Vegas drone community.
URL:https://tech.vegas/event/las-vegas-drones-monthly-meetup-2/
LOCATION:Art Square\, 1025 S 1st St\, Las Vegas\, NV\, 89101\, US
CATEGORIES:Technology
ATTACH;FMTTYPE=image/jpeg:https://tech.vegas/wp-content/uploads/2025/12/27037_image_highres_510526689-scaled.jpeg
ORGANIZER;CN="Las Vegas Drones Meetup Group":MAILTO:meetup-group-xxyvufyy-announce@messages.meetup.com
END:VEVENT
BEGIN:VEVENT
DTSTART;TZID=America/Los_Angeles:20260321T121500
DTEND;TZID=America/Los_Angeles:20260321T134500
DTSTAMP:20260420T123041
CREATED:20260315T065218Z
LAST-MODIFIED:20260315T065218Z
UID:10006944-1774095300-1774100700@tech.vegas
SUMMARY:Click Happens! From Terminal to Tada: Writing Python Programs with a GUI
DESCRIPTION:Ever wished your Python scripts would put on real pants and greet the world with buttons\, windows\, and delightful little dialogs? \nIn this talk\, we’ll take our faithful command-line programs and teach them some social skills. You’ll learn how to turn quiet\, text-only scripts into interactive desktop applications with actual clickable things. Yes — buttons you can press. Fields you can type in. Windows that pop up like they mean it. \nWe’ll demystify GUI programming\, peek behind the curtain of event loops\, and explore how surprisingly approachable it is to build polished interfaces in Python. No design degree required. Mild curiosity recommended. \nWhether you are: \n\nA terminal wizard ready to add sparkle\,\nA hobbyist who wants to build tools people can actually use\,\nOr just GUI-curious\,\n\nyou’ll leave knowing how to give your Python programs a face\, a personality\, and maybe even a little charm. \nBring your imagination. Leave with buttons. \nVegasTech
URL:https://tech.vegas/event/click-happens-from-terminal-to-tada-writing-python-programs-with-a-gui/
LOCATION:Third Street\, 814 S 3rd St\, Las Vegas\, 89101\, Las Vegas\, NV\, 89101\, US
CATEGORIES:Technology
ATTACH;FMTTYPE=image/jpeg:https://tech.vegas/wp-content/uploads/2025/12/27000_image_highres_467494464.jpeg
ORGANIZER;CN="VegasPy - Las Vegas Python User Group":MAILTO:vegaspy-announce@messages.meetup.com
END:VEVENT
END:VCALENDAR